Workbook
Name Valintalista: '1. Työ- ja muu kokemus'!#REF!
Name Valintalista: '2. Referenssivaatimukset'!#REF!
Name Valintalista: 'Ohjeet ja yhteenveto'!$K$8:$K$9

Sheet Ohjeet ja yhteenveto
B2: Tampereen kaupunki, Paikkatietojärjestelmien tukipalveluiden hankinta – Lomake B, Avainhenkilölomake
B4: Tämä liite on Tampereen kaupungin järjestämän Paikkatietojärjestelmien tukipalveluiden hankintaa koskevan tarjouskilpailun avainhenkilölomake, joka tulee palauttaa tarjouksen liitteenä. Tarjoajan tulee nimetä perehdytettävät avainhenkilöt alla sekä heidän vastaavuutensa asetettuihin vähimmäisvaatimuksiin välilehdillä 1. Työ- ja muu kokemus sekä 2. Referenssivaatimukset. Tämän lisäksi tarjoaja voi, mutta sen ei ole pakko esittää mitkä pisteytettävät kokonaisuudet täyttyvät. Kaikki täytettävät solut on korostettu vaaleansinisellä värillä.
B6: Kaikkien välilehdillä 1. ja 2. asetettujen vähimmäisvaatimusten täyttyminen on ehdoton vähimmäisvaatimus, jonka täyttämättä jättäminen tulee johtamaan Tarjoajan sulkemiseen tarjouskilpailusta. Pisteytettäviä kokonaisuuksia koskevien tietojen ilmoittaminen ei ole pakollista, mutta se on edellytys tarjousten vertailussa käytettävien pisteiden saamiseen.
B8: Avainhenkilöiden nimeäminen ja ohjeet lomakkeen täyttöön
B10: Nimeä tässä ne asiantuntijat, jotka on nimetty transitioprojektissa perehdytettäviksi avainhenkilöiksi. Avainhenkilöitä tulee nimetä vähintään kaksi (2) ja heitä saa nimetä korkeintaan viisi (5). Kunkin nimetyn avainhenkilön osalta tulee varautua toimittaamaan ansioluettelo, josta henkilön työkokemus ja ilmoitetut toimeksiannot ilmenevät tarkemmin.
B12: Kullakin nimetyllä henkilöllä tulee olla vähintään jotain pisteytettävää tai vähimmäisvaatimuksen mukaista kokemusta. Muilta osin sillä, miten avainhenkilöt yhdessä täyttävät asetetut vähimmäisvaatimukset ja omaavat pisteytettävää kokemusta ei ole merkitystä; On siten esimerkiksi täysin sallittua, että yksi henkilöistä täyttää kaikki vähimmäisvaatimukset ja muilla on vain pistettävää kokemusta. Sellaisen henkilön nimeäminen, joilla ei ole ilmoitettu olevan mitään kokemusta, ei johda tarjouksen hylkäämiseen, mutta heitä ei katsota avainhenkilöiksi sopimuksen ehtojen soveltamisessa.
B14: Huomaa myös kokemuksena esitettäviä toimeksiantoja kokevat vaatimukset välilehden 2. alun kiinnitetyillä riveillä. Nämä vaatimukset koskevat niin vähimmäisvaatimusten mukaista kuin pisteytettävää kokemusta.
K15: 1
B16: Perehdytettävä avainhenkilö 1 | J16: =IF(ISBLANK(D16),FALSE,D16) -> FALSE | K16: =IF(J16=FALSE,"",MAX(K$15:K15)+1) | L16: {=IFERROR(INDEX($D$16:$D$20,SMALL(IF(ISTEXT($D$16:$D$20),ROW($A$1:$A$5),""),ROW(A1))),"")}
B17: Perehdytettävä avainhenkilö 2 | J17: =IF(ISBLANK(D17),FALSE,D17) -> FALSE | K17: =IF(J17=FALSE,"",MAX(K$15:K16)+1) | L17: {=IFERROR(INDEX($D$16:$D$20,SMALL(IF(ISTEXT($D$16:$D$20),ROW($A$1:$A$5),""),ROW(A2))),"")}
B18: Perehdytettävä avainhenkilö 3 | J18: =IF(ISBLANK(D18),FALSE,D18) -> FALSE | K18: =IF(J18=FALSE,"",MAX(K$15:K17)+1) | L18: {=IFERROR(INDEX($D$16:$D$20,SMALL(IF(ISTEXT($D$16:$D$20),ROW($A$1:$A$5),""),ROW(A3))),"")}
B19: Perehdytettävä avainhenkilö 4 | J19: =IF(ISBLANK(D19),FALSE,D19) -> FALSE | K19: =IF(J19=FALSE,"",MAX(K$15:K18)+1) | L19: {=IFERROR(INDEX($D$16:$D$20,SMALL(IF(ISTEXT($D$16:$D$20),ROW($A$1:$A$5),""),ROW(A4))),"")}
B20: Perehdytettävä avainhenkilö 5 | J20: =IF(ISBLANK(D20),FALSE,D20) -> FALSE | K20: =IF(J20=FALSE,"",MAX(K$15:K19)+1) | L20: {=IFERROR(INDEX($D$16:$D$20,SMALL(IF(ISTEXT($D$16:$D$20),ROW($A$1:$A$5),""),ROW(A5))),"")}
B22: Huomaa henkilöitä nimetessäsi sopimuksen ehdot siitä, että avainhenkilön vaihtaminen transitioprojektin aikana on kielletty muusta kuin toimittajasta riippumattomasta syystä, ja että heidän aikaansa tulee varata toimeksiannon käyttöön vähintään yhdeksi (1) vuodeksi.
B24: Tarjoajan pyrkimys vaihtaa tässä nimetty avainhenkilö ennen sopimuksen allekirjoitusta muusta kuin toimittajasta riippumattomasta syystä katsotaan tehdystä tarjouksesta vetäytymiseksi, johtaen hankintaoikaisuun jossa toimittajan tarjous hylätään. Ns. mannekiinien käyttö on siten ehdottomasti kielletty.
B26: Vähimmäisvaatimusten täyttyminen
B28: 1. Työ- ja muu kokemus
B29: Vaatimus | E29: Henkilön nimi | F29: Kokemuksen kuvaus annettu | G29: Tilanne
B30: ='1. Työ- ja muu kokemus'!B2 -> Vähimmäisvaatimus 1.1, Kokemus teknisen paikkatietoasiantuntijan tai -kehittäjän tehtävistä | E30: =IF('1. Työ- ja muu kokemus'!D8="","",'1. Työ- ja muu kokemus'!D8) | F30: =IF('1. Työ- ja muu kokemus'!D9="","Ei","Kyllä") -> Ei | G30: =IF(OR('1. Työ- ja muu kokemus'!D8="",'1. Työ- ja muu kokemus'!D9=""),"Ei täyty","Täyttyy") -> Ei täyty
B32: 2. Referenssivaatimukset
B33: Vaatimus | E33: Henkilön nimi | F33: Toimeksiantojen määrä | G33: Tilanne
B34: ='2. Referenssivaatimukset'!B9 -> Vähimmäisvaatimus 2.1, Nimettyjen avainhenkilöiden Oskari-kokemus | E34: =IF('2. Referenssivaatimukset'!D15="","",'2. Referenssivaatimukset'!D15) | F34: =_xlfn.CONCAT(SUM('2. Referenssivaatimukset'!J18:J19),"/2") -> 0/2 | G34: =IF(OR('2. Referenssivaatimukset'!D15="",SUM('2. Referenssivaatimukset'!J18:J19)<2),"Ei täyty","Täyttyy") -> Ei täyty
B35: ='2. Referenssivaatimukset'!B35 -> Vähimmäisvaatimus 2.2, Nimettyjen avainhenkilöiden GeoServer-kokemus | E35: =IF('2. Referenssivaatimukset'!D41="","",'2. Referenssivaatimukset'!D41) | F35: =_xlfn.CONCAT(SUM('2. Referenssivaatimukset'!J44:J45),"/2") -> 0/2 | G35: =IF(OR('2. Referenssivaatimukset'!D41="",SUM('2. Referenssivaatimukset'!J44:J45)<2),"Ei täyty","Täyttyy") -> Ei täyty
B36: ='2. Referenssivaatimukset'!B72 -> Vähimmäisvaatimus 2.3, Nimettyjen avainhenkilöiden PostgreSQL ja PostGIS kokemus | E36: =IF('2. Referenssivaatimukset'!D78="","",'2. Referenssivaatimukset'!D78) | F36: =_xlfn.CONCAT(SUM('2. Referenssivaatimukset'!J81),"/1") -> 0/1 | G36: =IF(OR('2. Referenssivaatimukset'!D78="",SUM('2. Referenssivaatimukset'!J81)<1),"Ei täyty","Täyttyy") -> Ei täyty
B37: ='2. Referenssivaatimukset'!B96 -> Vähimmäisvaatimus 2.4, Nimettyjen avainhenkilöiden OracleDB-kokemus | E37: =IF('2. Referenssivaatimukset'!D102="","",'2. Referenssivaatimukset'!D102) | F37: =_xlfn.CONCAT(SUM('2. Referenssivaatimukset'!J105),"/1") -> 0/1 | G37: =IF(OR('2. Referenssivaatimukset'!D102="",SUM('2. Referenssivaatimukset'!J105)<1),"Ei täyty","Täyttyy") -> Ei täyty
B38: ='2. Referenssivaatimukset'!B111 -> Vähimmäisvaatimus 2.5, Nimettyjen avainhenkilöiden React ja Node.js-kokemus | E38: =IF('2. Referenssivaatimukset'!D117="","",'2. Referenssivaatimukset'!D117) | F38: =_xlfn.CONCAT(SUM('2. Referenssivaatimukset'!J120:J121),"/2") -> 0/2 | G38: =IF(OR('2. Referenssivaatimukset'!D117="",SUM('2. Referenssivaatimukset'!J120:J121)<2),"Ei täyty","Täyttyy") -> Ei täyty
B39: ='2. Referenssivaatimukset'!B134 -> Vähimmäisvaatimus 2.6, Nimettyjen avainhenkilöiden Microsoft Azure-kokemus | E39: =IF('2. Referenssivaatimukset'!D140="","",'2. Referenssivaatimukset'!D140) | F39: =_xlfn.CONCAT(SUM('2. Referenssivaatimukset'!J143),"/1") -> 0/1 | G39: =IF(OR('2. Referenssivaatimukset'!D140="",SUM('2. Referenssivaatimukset'!J143)<1),"Ei täyty","Täyttyy") -> Ei täyty
B40: ='2. Referenssivaatimukset'!B167 -> Vähimmäisvaatimus 2.7, Nimettyjen avainhenkilöiden Jenkins-kokemus | E40: =IF('2. Referenssivaatimukset'!D173="","",'2. Referenssivaatimukset'!D173) | F40: =_xlfn.CONCAT(SUM('2. Referenssivaatimukset'!J176),"/1") -> 0/1 | G40: =IF(OR('2. Referenssivaatimukset'!D173="",SUM('2. Referenssivaatimukset'!J176)<1),"Ei täyty","Täyttyy") -> Ei täyty
B41: ='2. Referenssivaatimukset'!B178 -> Vähimmäisvaatimus 2.8, Nimettyjen avainhenkilöiden Linux-kokemus | E41: =IF('2. Referenssivaatimukset'!D174="","",'2. Referenssivaatimukset'!D174) | F41: =_xlfn.CONCAT(SUM('2. Referenssivaatimukset'!J187),"/1") -> 0/1 | G41: =IF(OR('2. Referenssivaatimukset'!D184="",SUM('2. Referenssivaatimukset'!J187)<1),"Ei täyty","Täyttyy") -> Ei täyty
B43: Huomaa, että tässä esitetty tieto on puhtaasti ohjeellinen ja tarkoitettu lomakkeen tarkastamisen tueksi. Varsinainen vaatimusten täyttymisen arviointi tehdään osana tarjousten tarkastusta, jossa yhteydessä myös pisteytys tapahtuu.

Sheet 1. Työ- ja muu kokemus
B2: Vähimmäisvaatimus 1.1, Kokemus teknisen paikkatietoasiantuntijan tai -kehittäjän tehtävistä
B4: Vähintään yhdellä (1) nimetyllä avainhenkilöllä tulee olla vähintään viiden (5) vuoden työkokemus teknisenä paikkatietoasiantuntijana tai -kehittäjänä toimimista. Relevantiksi tehtäviksi katsotaan tehtävät kuten paikkatietojärjestelmien suunnittelu, kehittäminen ja/tai ylläpito, mutta ei esimerkiksi pelkkä paikkatietoaineistojen tuottaminen.
B6: Valitse vaatimuksen täyttävä avainhenkilö ja kuvaa henkilön vaatimusta vastaavista työsuhteista.
B8: Perehdytettävä avainhenkilö:
B9: Kokemuksen kuvaus
B11: Pisteytettävä kokemus maankäytön ja rakentamisen toimialalta
B13: Tarjoaja saa vertailussa 2 pistettä, mikäli yhdellä (1) nimetyistä asiantuntijoista on kokemusta maankäytön ja rakentamisen toimialalta. Vaatimuksen mukaiseksi kokemukseksi ei katsota kokemusta rakennusurakoiden toteuttamisesta, esim. arkkitehtuurisuunnittelusta tai rakennustyömaalla työskentelystä, vaan esimerkiksi kaavoituksesta, kaupunkisuunnittelusta, tai muusta vastaavasta tehtävästä taikka näissä tukemisessa esim. kehitettävän tietojärjestelmän avulla.
B15: Pisteytettävän tekijän toteutuminen tulee osoittaa esim. työsuhteen tehtävien, referenssin tai osana tutkintoa suoritettujen opintojen avulla. Vapaamuotoinen itseopiskelu ja sitä koskeva henkilön oma vakuutus kokemuksesta ei ole riittävä.
B17: Osoituksena tekijän toteutumisesta ei hyväksytä kokemusta, jossa maankäyttö ja rakentaminen ei ole keskeisessä roolissa. Esim. työsuhde tai referenssit, joissa työnantaja tai toimeksiannon asiakas toimii tällä toimialalla, mutta jossa työsuhteen tehtävillä tai toimeksiannon kohteella ei ole siihen kuin ohimenevää liityntää, ei huomioda. Esimerkiksi sellaisen kunnan verkkosivun toteutus, jossa maankäytön ja rakentamisen toimiala esitellään, ei ole vaatimuksen mukaista kokemusta.
B19: Tarjoaja saa vertailussa 2 pisteen sijaan 4 pistettä, mikäli kahdella (2) nimetyistä asiantuntijoista on kuvattua kokemusta maankäytön ja rakentamisen toimialalta.
B21: Valitse vaatimuksen täyttävä(t) avainhenkilö(t) ja kuvaa henkilön vaatimusta vastaava kokemus.
B23: Perehdytettävä avainhenkilö 1:
... B38: Kokemuksen kuvaus

Sheet 2. Referenssivaatimukset
B2: KAIKKIA TÄLLÄ VÄLILEHDELLÄ ESITETTÄVIÄ TOIMEKSIANTOJA, ML. PISTEYTETTÄVÄ KOKEMUS, KOSKEVAT SEURAAVAT VÄHIMMÄISVAATIMUKSET
B4: ! | C4: Avainhenkilön referenssinä esitettävät toimeksiannot eivät saa olla viittä (5) vuotta vanhempia päättymispäivän mukaan laskettuna. Rajoite lasketaan tarjouspyynnön julkaisukuukaudesta, joten aikaisin sallittu päättymispäivä on 7/2017. Jatkuvien toimeksiantojen osalta voit ilmoittaa "Jatkuu"
B6: ! | C6: Avainhenkilön referenssinä esitettävässä toimeksiannossa toteutuneen kokonaistyömäärän tulee olla vähintään kymmenen (10) henkilötyöpäivää. Toimeksiannon ennakoidulla koolla tai muiden henkilöiden toimeksiannossa tekemällä työmäärällä ei ole merkitystä, vaan ainoastaan avainhenkilön omalla toteutuneella työmäärällä. Ilmoittamisen osalta riittää karkea suuruusluokka, josta ylittyminen käy selvästi ilmi (esim."yli 15 htp" tai "satoja päiviä" mutta ei "noin 10 htp")
B9: Vähimmäisvaatimus 2.1, Nimettyjen avainhenkilöiden Oskari-kokemus
B11: Vähintään yhdellä (1) nimetyllä avainhenkilöllä tulee olla kokemusta vähintään kahdesta sellaisesta toimeksiannosta, jossa avainhenkilö on kehittänyt tai ylläpitänyt Oskari-pohjaista karttapalvelua, tai tehnyt sellaiseen liittynyttä teknistä konsultointia.
B13: Valitse vaatimuksen täyttävä avainhenkilö ja nimeä henkilön vaatimuksen täyttävät toimeksiannot.
B15: Perehdytettävä avainhenkilö:
D17: Toimeksiannon tilaaja (asiakas) | E17: Toimeksiannon nimi | F17: Työmäärä (htp) | G17: Päättyi (kk/vvvv)
B18: Vastaava toimeksianto 1: | J18: =IF(COUNTA(D18:G18)>3,1,0) -> 0
B19: Vastaava toimeksianto 2: | J19: =IF(COUNTA(D19:G19)>3,1,0) -> 0
B21: Pisteytettävä kokemus Oskari-toimeksiannoista
B23: Tarjoaja saa vertailussa 1,5 pistettä, mikäli yksi edellä esitetyistä, vähimmäisvaatimuksen täyttävistä toimeksiannoista jatkuu edelleen tai päättyi korkeintaan 12 kuukautta ennen tarjouspyynnön julkaisua, eli aikaisintaan 7/2021.
B24: Tarjoaja saa vertailussa 1,5 pisteen sijaan 3,5 pistettä, mikäli kumpikin edellä esitetyistä, vähimmäisvaatimuksen täyttävistä toimeksiannoista jatkuu edelleen tai päättyi korkeintaan 12 kuukautta ennen tarjouspyynnön julkaisua.
B26: Tarjoaja saa vertailussa 4 pistettä, mikäli vähimmäisvaatimuksen täyttävän henkilön lisäksi vähintään yhdellä muista perehdytettävistä avainhenkilöistä on kokemusta vähintään yhdestä (1) sellaisesta toimeksiannosta, jossa avainhenkilö on kehittänyt tai ylläpitänyt Oskari-pohjaista karttapalvelua, tai tehnyt sellaiseen liittynyttä teknistä konsultointia.
B28: Valitse vaatimuksen täyttävä avainhenkilö ja nimeä henkilön vaatimuksen täyttävät toimeksiannot.
B30: Perehdytettävä avainhenkilö:
D32: Toimeksiannon tilaaja (asiakas) | E32: Toimeksiannon nimi | F32: Työmäärä (htp) | G32: Päättyi (kk/vvvv)
B33: Vastaava toimeksianto:
B35: Vähimmäisvaatimus 2.2, Nimettyjen avainhenkilöiden GeoServer-kokemus
B37: Vähintään yhdellä (1) nimetyllä avainhenkilöllä tulee olla kokemusta vähintään kahdesta sellaisesta toimeksiannosta, jossa avainhenkilö on kehittänyt tai ylläpitänyt GeoServer-palvelinta tai sellaisen sisältänyttä järjestelmää, taikka tehnyt tällaiseen liittynyttä teknistä konsultointia.
B39: Valitse vaatimuksen täyttävä avainhenkilö ja nimeä henkilön vaatimuksen täyttävät toimeksiannot.
B41: Perehdytettävä avainhenkilö:
D43: Toimeksiannon tilaaja (asiakas) | E43: Toimeksiannon nimi | F43: Työmäärä (htp) | G43: Päättyi (kk/vvvv)
B44: Vastaava toimeksianto 1: | J44: =IF(COUNTA(D44:G44)>3,1,0) -> 0
B45: Vastaava toimeksianto 2: | J45: =IF(COUNTA(D45:G45)>3,1,0) -> 0
B47: Pisteytettävä kokemus GeoServer-toimeksiannoista
B49: Tarjoaja saa vertailussa 1,5 pistettä, mikäli yksi edellä esitetyistä, vähimmäisvaatimuksen täyttävistä toimeksiannoista jatkuu edelleen tai päättyi korkeintaan 12 kuukautta ennen tarjouspyynnön julkaisua, eli aikaisintaan 7/2021.
B50: Tarjoaja saa vertailussa 1 pisteen sijaan 3,5 pistettä, mikäli kumpikin edellä esitetyistä, vähimmäisvaatimuksen täyttävistä toimeksiannoista jatkuu edelleen tai päättyi korkeintaan 12 kuukautta ennen tarjouspyynnön julkaisua.
B52: Tarjoaja saa vertailussa 4 pistettä, mikäli vähimmäisvaatimuksen täyttävän henkilön lisäksi vähintään yhdellä muista perehdytettävistä avainhenkilöistä on kokemusta vähintään yhdestä (1) sellaisesta toimeksiannosta, jossa avainhenkilö on kehittänyt tai ylläpitänyt GeoServer-ympäristöä tai sellaisen sisältänyttä järjestelmää, taikka tehnyt tällaiseen liittynyttä teknistä konsultointia.
B54: Valitse vaatimuksen täyttävä avainhenkilö ja nimeä henkilön vaatimuksen täyttävät toimeksiannot.
B56: Perehdytettävä avainhenkilö:
D58: Toimeksiannon tilaaja (asiakas) | E58: Toimeksiannon nimi | F58: Työmäärä (htp) | G58: Päättyi (kk/vvvv)
B59: Vastaava toimeksianto:
B61: Pisteytettävä kokemus QGIS ja QField ohjelmistoihin liittyvistä GeoServer -toimeksiannoista
B63: Tarjoaja saa vertailussa 2 pistettä, mikäli vähintään yhdellä nimetyistä avainhenkilöistä on kokemusta vähintään yhdestä (1) sellaisesta toimeksiannosta, jossa avainhenkilö on ollut mukana suunnittelemassa tai toteuttamassa QGIS ja/tai QField -ohjelmistojen sekä GeoServer-palvelimen välistä integraatiota. Kokemuksena hyväksytään niin QGISin ja/tai QFieldin puolelta kuin GeoServerin puolelta tehty suunnittelu ja toteutus. Integraation tarkemmalla sisällöllä, ts. mitä kaikkea siinä on siirretty, ei ole merkitystä.
B65: Valitse vaatimuksen täyttävä avainhenkilö ja nimeä henkilön vaatimuksen täyttävät toimeksiannot.
B67: Perehdytettävä avainhenkilö:
D69: Toimeksiannon tilaaja (asiakas) | E69: Toimeksiannon nimi | F69: Työmäärä (htp) | G69: Päättyi (kk/vvvv)
B70: Vastaava toimeksianto:
B72: Vähimmäisvaatimus 2.3, Nimettyjen avainhenkilöiden PostgreSQL ja PostGIS kokemus
B74: Vähintään yhdellä (1) nimetyllä avainhenkilöllä tulee olla kokemusta vähintään yhdestä sellaisesta toimeksiannosta, jossa avainhenkilö on kehittänyt tai ylläpitänyt paikkatietojen (geospatial data) säilyttämiseen käytettyä PostgreSQL-tietokantaa PostGIS-laajennoksella, taikka tehnyt tällaiseen liittynyttä teknistä konsultointia.
B76: Valitse vaatimuksen täyttävä avainhenkilö ja nimeä henkilön vaatimuksen täyttävät toimeksiannot.
B78: Perehdytettävä avainhenkilö:
D80: Toimeksiannon tilaaja (asiakas) | E80: Toimeksiannon nimi | F80: Työmäärä (htp) | G80: Päättyi (kk/vvvv)
B81: Vastaava toimeksianto: | J81: =IF(COUNTA(D81:G81)>3,1,0) -> 0
B83: Pisteytettävä kokemus PostgreSQL ja PostGIS-toimeksiannoista
B85: Tarjoaja saa vertailussa 2 pistettä, mikäli edellä esitetty, vähimmäisvaatimuksen täyttäviä toimeksianto jatkuu edelleen tai päättyi korkeintaan 12 kuukautta ennen tarjouspyynnön julkaisua, eli aikaisintaan 7/2021.
B87: Tarjoaja saa vertailussa 3 pistettä, mikäli vähimmäisvaatimuksen täyttävän henkilön lisäksi vähintään yhdellä muista perehdytettävistä avainhenkilöistä on kokemusta vähintään yhdestä (1) sellaisesta toimeksiannosta, jossa avainhenkilö on kehittänyt tai ylläpitänyt paikkatietojen (geospatial data) säilyttämiseen käytettyä PostgreSQL-tietokantaa PostGIS-laajennoksella, taikka tehnyt tällaiseen liittynyttä teknistä konsultointia.
B89: Valitse vaatimuksen täyttävä avainhenkilö ja nimeä henkilön vaatimuksen täyttävät toimeksiannot.
B91: Perehdytettävä avainhenkilö:
D93: Toimeksiannon tilaaja (asiakas) | E93: Toimeksiannon nimi | F93: Työmäärä (htp) | G93: Päättyi (kk/vvvv)
B94: Vastaava toimeksianto:
B96: Vähimmäisvaatimus 2.4, Nimettyjen avainhenkilöiden OracleDB-kokemus
B98: Vähintään yhdellä (1) nimetyllä avainhenkilöllä tulee olla kokemusta vähintään yhdestä sellaisesta toimeksiannosta, jossa avainhenkilö on kehittänyt tai ylläpitänyt paikkatietojen (geospatial data) säilyttämiseen käytettyä OracleDB-tietokantaa, taikka tehnyt tällaiseen liittynyttä teknistä konsultointia.
B100: Valitse vaatimuksen täyttävä avainhenkilö ja nimeä henkilön vaatimuksen täyttävät toimeksiannot.
B102: Perehdytettävä avainhenkilö:
D104: Toimeksiannon tilaaja (asiakas) | E104: Toimeksiannon nimi | F104: Työmäärä (htp) | G104: Päättyi (kk/vvvv)
B105: Vastaava toimeksianto: | J105: =IF(COUNTA(D105:G105)>3,1,0) -> 0
B107: Pisteytettävä kokemus OracleDB-toimeksiannoista
B109: Tarjoaja saa vertailussa 2 pistettä, mikäli edellä esitetty, vähimmäisvaatimuksen täyttävä toimeksianto jatkuu edelleen tai päättyi korkeintaan 12 kuukautta ennen tarjouspyynnön julkaisua, eli aikaisintaan 7/2021.
B111: Vähimmäisvaatimus 2.5, Nimettyjen avainhenkilöiden React ja Node.js-kokemus
B113: Vähintään yhdellä (1) nimetyllä avainhenkilöllä tulee olla kokemusta vähintään kahdesta sellaisesta toimeksiannosta, jossa avainhenkilö on kehittänyt tai ylläpitänyt React- ja Node.js-pohjaista verkkopalvelua, taikka tehnyt tällaiseen liittynyttä teknistä konsultointia.
B115: Valitse vaatimuksen täyttävä avainhenkilö ja nimeä henkilön vaatimuksen täyttävät toimeksiannot.
B117: Perehdytettävä avainhenkilö:
D119: Toimeksiannon tilaaja (asiakas) | E119: Toimeksiannon nimi | F119: Työmäärä (htp) | G119: Päättyi (kk/vvvv)
B120: Vastaava toimeksianto 1: | J120: =IF(COUNTA(D120:G120)>3,1,0) -> 0
B121: Vastaava toimeksianto 2: | J121: =IF(COUNTA(D121:G121)>3,1,0) -> 0
B123: Pisteytettävä kokemus React ja Node.js-toimeksiannoista
B125: Tarjoaja saa vertailussa 4 pistettä, mikäli vähimmäisvaatimuksen täyttävän henkilön lisäksi vähintään yhdellä muista perehdytettävistä avainhenkilöistä on kokemusta vähintään yhdestä (1) sellaisesta toimeksiannosta, jossa avainhenkilö on kehittänyt tai ylläpitänyt React- ja Node.js-pohjaista verkkopalvelua, taikka tehnyt tällaiseen liittynyttä teknistä konsultointia.
B127: Valitse vaatimuksen täyttävä avainhenkilö ja nimeä henkilön vaatimuksen täyttävät toimeksiannot.
B129: Perehdytettävä avainhenkilö:
D131: Toimeksiannon tilaaja (asiakas) | E131: Toimeksiannon nimi
B132: Vastaava toimeksianto:
B134: Vähimmäisvaatimus 2.6, Nimettyjen avainhenkilöiden Microsoft Azure-kokemus
B136: Vähintään yhdellä (1) nimetyllä avainhenkilöllä tulee olla kokemusta vähintään kahdesta sellaisesta toimeksiannosta, jossa toimeksiannon kohteena on ollut Microsoft Azure -pilvialustalla ajettava sovellus, jonka sovelluksen Azure-ympäristön hallinnasta avainhenkilö on vastannut (mm. käytettäviin Azuren palveluihin liittyvä konfigurointi kattaen esim. YAML-tiedostojen kirjoittamisen tai käsin tehtävän määrittelyn, jne.).
B138: Valitse vaatimuksen täyttävä avainhenkilö ja nimeä henkilön vaatimuksen täyttävät toimeksiannot.
B140: Perehdytettävä avainhenkilö:
D142: Toimeksiannon tilaaja (asiakas) | E142: Toimeksiannon nimi | F142: Työmäärä (htp) | G142: Päättyi (kk/vvvv)
B143: Vastaava toimeksianto: | J143: =IF(COUNTA(D143:G143)>3,1,0) -> 0
B145: Pisteytettävä kokemus Microsoft Azure -toimeksiannoista
B147: Tarjoaja saa vertailussa 3 pistettä, mikäli vähimmäisvaatimuksen täyttävän henkilön lisäksi vähintään yhdellä muista perehdytettävistä avainhenkilöistä on kokemusta vähintään yhdestä (1) sellaisesta toimeksiannosta, jossa toimeksiannon kohteena on ollut Microsoft Azure -pilvialustalla ajettava sovellus, jonka ympäristön hallinnasta avainhenkilö on vastannut (mm. käytettäviin Azuren palveluihin liittyvä konfigurointi kattaen esim. YAML-tiedostojen kirjoittamisen tai käsin tehtävän määrittelyn, jne.).
B149: Valitse vaatimuksen täyttävä avainhenkilö ja nimeä henkilön vaatimuksen täyttävät toimeksiannot.
B151: Perehdytettävä avainhenkilö:
D153: Toimeksiannon tilaaja (asiakas) | E153: Toimeksiannon nimi | F153: Työmäärä (htp) | G153: Päättyi (kk/vvvv)
B154: Vastaava toimeksianto:
B156: Pisteytettävä kokemus Microsoft Azure AD liittyvistä toimeksiannoista
B158: Tarjoaja saa vertailussa 2 pistettä, mikäli vähintään yhdellä nimetyistä avainhenkilöistä on kokemusta vähintään yhdestä (1) sellaisesta toimeksiannosta, jossa avainhenkilö on ollut mukana suunnittelemassa tai toteuttamassa verkkopalvelun integraatiota Azure AD-palveluun. Kokemuksena hyväksytään niin verkkopalvelun puolelta kuin Azure AD puolelta tehty suunnittelu ja toteutus.
B160: Valitse vaatimuksen täyttävä avainhenkilö ja nimeä henkilön vaatimuksen täyttävät toimeksiannot.
B162: Perehdytettävä avainhenkilö:
D164: Toimeksiannon tilaaja (asiakas) | E164: Toimeksiannon nimi | F164: Työmäärä (htp) | G164: Päättyi (kk/vvvv)
B165: Vastaava toimeksianto:
B167: Vähimmäisvaatimus 2.7, Nimettyjen avainhenkilöiden Jenkins-kokemus
B169: Vähintään yhdellä (1) nimetyllä avainhenkilöllä tulee olla kokemusta vähintään yhdestä sellaisesta toimeksiannosta, jossa avainhenkilö on vastannut Jenkins-ympäristön pystyttämisestä ja/tai sen hallinnoinnista, ml. yhden tai useamman CI/CD-pipelinen toteutus ja/tai ylläpito
B171: Valitse vaatimuksen täyttävä avainhenkilö ja nimeä henkilön vaatimuksen täyttävät toimeksiannot.
B173: Perehdytettävä avainhenkilö:
D175: Toimeksiannon tilaaja (asiakas) | E175: Toimeksiannon nimi | F175: Työmäärä (htp) | G175: Päättyi (kk/vvvv)
B176: Vastaava toimeksianto: | J176: =IF(COUNTA(D176:G176)>3,1,0) -> 0
B178: Vähimmäisvaatimus 2.8, Nimettyjen avainhenkilöiden Linux-kokemus
B180: Vähintään yhdellä (1) nimetyllä avainhenkilöllä tulee olla kokemusta vähintään yhdestä sellaisesta toimeksiannosta, jossa avainhenkilö on osallistunut Linux-palvelinympäristön hallinnointiin. Vaatimuksen mukaiseksi hallinnoinniksi riittää komentojen suorittaminen kyseisessä ympäristöstä, eikä henkilön ole tarvinnut esim. vastata koko ympäristöstä tai sen pystyttämisestä.
B182: Valitse vaatimuksen täyttävä avainhenkilö ja nimeä henkilön vaatimuksen täyttävät toimeksiannot.
...
