Workbook

Sheet Ohje
C1: Mobiili- ja yritystietoliikenteen palvelujen kilpailutus | I1: 43343

Sheet 1-Yksikköhinnat
H1: Yritystietoliikenneverkon palvelujen hinnat | J1: 43343
H2: Tarjoaja: [Nimi tähän]
D4: Osa-alue 1. Yritystietoliikenneverkon palvelut
D5: Tietoliikenneyhteydet
H6: Yhteydet ja SLA-tasot
H7: Vantaa, Sarkatie 1
H8: WAN yhteys nopeudella 200/200Mbits, SLA 6h -tasolla | J8: €/kk
H9: WAN yhteys nopeudella 200/200Mbits, SLA 8h -tasolla | J9: €/kk
H10: WAN yhteys nopeudella 200/200Mbits, SLA 12h -tasolla | J10: €/kk
H12: WAN yhteys nopeudella 500/500Mbits, SLA 6h -tasolla | J12: €/kk
H13: WAN yhteys nopeudella 500/500Mbits, SLA 8h -tasolla | J13: €/kk
H14: WAN yhteys nopeudella 500/500Mbits, SLA 12h -tasolla | J14: €/kk
H16: Vantaa, Nuolikuja 6
H17: WAN yhteys nopeudella 200/200Mbits, SLA 6h -tasolla | J17: €/kk
H18: WAN yhteys nopeudella 200/200Mbits, SLA 8h -tasolla | J18: €/kk
H19: WAN yhteys nopeudella 200/200Mbits, SLA 12h -tasolla | J19: €/kk
H21: WAN yhteys nopeudella 500/500Mbits, SLA 6h -tasolla | J21: €/kk
H22: WAN yhteys nopeudella 500/500Mbits, SLA 8h -tasolla | J22: €/kk
H23: WAN yhteys nopeudella 500/500Mbits, SLA 12h -tasolla | J23: €/kk
H25: Turku, Rautatehtaankatu 3
H26: WAN yhteys nopeudella 200/200Mbits, SLA 6h -tasolla | J26: €/kk
H27: WAN yhteys nopeudella 200/200Mbits, SLA 8h -tasolla | J27: €/kk
H28: WAN yhteys nopeudella 200/200Mbits, SLA 12h -tasolla | J28: €/kk
H30: WAN yhteys nopeudella 500/500Mbits, SLA 6h -tasolla | J30: €/kk
H31: WAN yhteys nopeudella 500/500Mbits, SLA 8h -tasolla | J31: €/kk
H32: WAN yhteys nopeudella 500/500Mbits, SLA 12h -tasolla | J32: €/kk
H34: Rajamäki, Kiljavantie 6
H35: WAN yhteys nopeudella 500/500Mbits, SLA 6h -tasolla | J35: €/kk
H36: WAN yhteys nopeudella 500/500Mbits, SLA 8h -tasolla | J36: €/kk
H37: WAN yhteys nopeudella 500/500Mbits, SLA 12h -tasolla | J37: €/kk
H39: WAN yhteys nopeudella 1/1Gbits, SLA 6h -tasolla | J39: €/kk
H40: WAN yhteys nopeudella 1/1Gbits, SLA 8h -tasolla | J40: €/kk
H41: WAN yhteys nopeudella 1/1Gbits, SLA 12h -tasolla | J41: €/kk
H43: WAN yhteys nopeudella L2 500/500Mbits, SLA 6h-tasolla | J43: €/kk
H44: WAN yhteys nopeudella L2 500/500Mbits, SLA 8h -tasolla | J44: €/kk
H45: WAN yhteys nopeudella L2 500/500Mbits, SLA 12h -tasolla | J45: €/kk
H48: Sammatti, Werlanderintie 170
H49: WAN yhteys nopeudella 2/1Mbits, SLA 12h -tasolla | J49: €/kk
H50: WAN yhteys nopeudella 10/5Mbits, SLA 12h -tasolla | J50: €/kk
H52: Muut yhteydet
H53: Langaton WAN-yhteys vähintään nopeudella 20Mbit/s, 2h vasteaikahuolto, ark 7-18 | J53: €/kk
H54: Langaton WAN-yhteys vähintään nopeudella 50Mbit/s, 2h vasteaikahuolto, ark 7-18 | J54: €/kk
H55: Langaton WAN-yhteys vähintään nopeudella 100Mbit/s, 2h vasteaikahuolto, ark 7-18 | J55: €/kk
H56: Langaton WAN-yhteys vähintään nopeudella 200Mbit/s, 2h vasteaikahuolto, ark 7-18 | J56: €/kk
H57: Langaton WAN-yhteys vähintään nopeudella 300Mbit/s, 2h vasteaikahuolto, ark 7-18 | J57: €/kk
H59: Langaton 4G varayhteys vähintään nopeudella 20Mbit/s, 2h vasteaikahuolto, ark 7-18 | J59: €/kk
H60: Langaton 4G varayhteys vähintään nopeudella 50Mbit/s, 2h vasteaikahuolto, ark 7-18 | J60: €/kk
H61: Langaton 4G varayhteys vähintään nopeudella 100Mbit/s, 2h vasteaikahuolto, ark 7-18 | J61: €/kk
H62: Langaton 4G varayhteys vähintään nopeudella 200Mbit/s, 2h vasteaikahuolto, ark 7-18 | J62: €/kk
H63: Langaton 4G varayhteys vähintään nopeudella 300Mbit/s, 2h vasteaikahuolto, ark 7-18 | J63: €/kk
D65: Internet-yhteys ja O365-yhteys (optiot)
H66: Internet-yhteys nopeudella 50/50Mbit/s, SLA 24/7 | J66: €/kk
H67: Internet-yhteys nopeudella 100/100Mbit/s, SLA 24/7 | J67: €/kk
H68: Internet-yhteys nopeudella 500/500Mbit/s, SLA 24/7 | J68: €/kk
D70: Internet -yhteyden lisäpalvelu (optio)
H71: DDoS-torjuntapalvelu | J71: €/palvelu/kk
D73: Palomuuri palveluna (optio)
H74: Palomuuri palveluna | J74: €/kpl
H75: Palomuurin sääntömuutos - määrän ylittävä normaalimuutos | J75: €/kpl
H76: Palomuurin sääntömuutos - pikatoimitus | J76: €/kpl
D78: Hiekkalaatikointi (Sandboxing) palveluna (optio)
H79: Hiekkalaatikointi palveluna | J79: €/palvelu/kk
D81: Muutostyöt
H82: Pikatoimituksen hinta | J82: €/kpl
H83: Liittymän nopeuden nosto | J83: €/kpl
H84: Liittymän siirto toiseen osoitteeseen (ilman rakentamiskustannuksia) | J84: €/kpl
D86: Palvelujen käyttöönotto
H87: Käyttöönotto palveluun kuuluvien kokonaisuuksien osalta (kiinteä kokonaishinta) | J87: €/kiinteä kokonaishinta
H88: Koulutuspäivä asiakkaan pääkäyttäjille | J88: €/koulutuspäivä
D90: Asiantuntijapalveluiden yksikköhinnat
H91: Tietoliikennesuunnittelija | J91: €/tunti
H92: Teleasentaja | J92: €/tunti
H94: Virka-ajan ulkopuolinen työ (päivähinnan muutos %-yksikköinä)
H95: Työ arkisin klo 16-24 | J95: korotus % tuntihintaan
H96: Työ lauantaina klo 8-16 | J96: korotus % tuntihintaan
H97: Työ sunnuntaina klo 8-16 | J97: korotus % tuntihintaan

Sheet 2- Vertailuhinta
G1: Yritystietoliikenneverkon palvelujen hinnat | O1: 43343
G2: ='1-Yksikköhinnat'!H2 -> Tarjoaja: [Nimi tähän]
C3: Yritystietoliikenneverkon hinnat
C4: ='1-Yksikköhinnat'!D5 -> Tietoliikenneyhteydet | H4: Yksikköhinta | I4: Yksikkö | K4: Vertailukerroin | L4: Yksikkö | N4: Aikakerroin | O4: Yksikkö | Q4: Vertailuhinnassa huomioitava kustannus
G5: ='1-Yksikköhinnat'!H6 -> Yhteydet ja SLA-tasot
G7: Vantaa, Sarkatie 1
G8: WAN yhteys nopeudella 100/100Mbits, SLA 6h -tasolla | H8: ='1-Yksikköhinnat'!I8 -> 0 | I8: ='1-Yksikköhinnat'!J8 -> €/kk | J8: x | K8: 1 | L8: kpl/kk | M8: x | N8: 24 | O8: kk | P8: = | Q8: =H8*K8*N8 -> 0
G9: WAN yhteys nopeudella 100/100Mbits, SLA 8h -tasolla | H9: ='1-Yksikköhinnat'!I9 -> 0 | I9: ='1-Yksikköhinnat'!J9 -> €/kk | J9: x | K9: 1 | L9: kpl/kk | M9: x | N9: 24 | O9: kk | P9: = | Q9: =H9*K9*N9 -> 0
G10: WAN yhteys nopeudella 100/100Mbits, SLA 12h -tasolla | H10: ='1-Yksikköhinnat'!I10 -> 0 | I10: ='1-Yksikköhinnat'!J10 -> €/kk | J10: x | K10: 1 | L10: kpl/kk | M10: x | N10: 24 | O10: kk | P10: = | Q10: =H10*K10*N10 -> 0
G12: WAN yhteys nopeudella 200/200Mbits, SLA 6h -tasolla | H12: ='1-Yksikköhinnat'!I12 -> 0 | I12: ='1-Yksikköhinnat'!J12 -> €/kk | J12: x | K12: 1 | L12: kpl/kk | M12: x | N12: 24 | O12: kk | P12: = | Q12: =H12*K12*N12 -> 0
G13: WAN yhteys nopeudella 200/200Mbits, SLA 8h -tasolla | H13: ='1-Yksikköhinnat'!I13 -> 0 | I13: ='1-Yksikköhinnat'!J13 -> €/kk | J13: x | K13: 1 | L13: kpl/kk | M13: x | N13: 24 | O13: kk | P13: = | Q13: =H13*K13*N13 -> 0
G14: WAN yhteys nopeudella 200/200Mbits, SLA 12h -tasolla | H14: ='1-Yksikköhinnat'!I14 -> 0 | I14: ='1-Yksikköhinnat'!J14 -> €/kk | J14: x | K14: 1 | L14: kpl/kk | M14: x | N14: 24 | O14: kk | P14: = | Q14: =H14*K14*N14 -> 0
G15: Keskiarvo vertailuhintaan | Q15: =SUM(Q8:Q14)/6 -> 0
G16: Vantaa, Nuolikuja 6
G17: WAN yhteys nopeudella 100/100Mbits, SLA 6h -tasolla | H17: ='1-Yksikköhinnat'!I17 -> 0 | I17: ='1-Yksikköhinnat'!J17 -> €/kk | J17: x | K17: 1 | L17: kpl/kk | M17: x | N17: 24 | O17: kk | P17: = | Q17: =H17*K17*N17 -> 0
G18: WAN yhteys nopeudella 100/100Mbits, SLA 8h -tasolla | H18: ='1-Yksikköhinnat'!I18 -> 0 | I18: ='1-Yksikköhinnat'!J18 -> €/kk | J18: x | K18: 1 | L18: kpl/kk | M18: x | N18: 24 | O18: kk | P18: = | Q18: =H18*K18*N18 -> 0
G19: WAN yhteys nopeudella 100/100Mbits, SLA 12h -tasolla | H19: ='1-Yksikköhinnat'!I19 -> 0 | I19: ='1-Yksikköhinnat'!J19 -> €/kk | J19: x | K19: 1 | L19: kpl/kk | M19: x | N19: 24 | O19: kk | P19: = | Q19: =H19*K19*N19 -> 0
G21: WAN yhteys nopeudella 200/200Mbits, SLA 6h -tasolla | H21: ='1-Yksikköhinnat'!I21 -> 0 | I21: ='1-Yksikköhinnat'!J21 -> €/kk | J21: x | K21: 1 | L21: kpl/kk | M21: x | N21: 24 | O21: kk | P21: = | Q21: =H21*K21*N21 -> 0
G22: WAN yhteys nopeudella 200/200Mbits, SLA 8h -tasolla | H22: ='1-Yksikköhinnat'!I22 -> 0 | I22: ='1-Yksikköhinnat'!J22 -> €/kk | J22: x | K22: 1 | L22: kpl/kk | M22: x | N22: 24 | O22: kk | P22: = | Q22: =H22*K22*N22 -> 0
G23: WAN yhteys nopeudella 200/200Mbits, SLA 12h -tasolla | H23: ='1-Yksikköhinnat'!I23 -> 0 | I23: ='1-Yksikköhinnat'!J23 -> €/kk | J23: x | K23: 1 | L23: kpl/kk | M23: x | N23: 24 | O23: kk | P23: = | Q23: =H23*K23*N23 -> 0
G24: Keskiarvo vertailuhintaan | Q24: =SUM(Q17:Q23)/6 -> 0
G25: Turku, Rautatehtaankatu 3
G26: WAN yhteys nopeudella 100/100Mbits, SLA 6h -tasolla | H26: ='1-Yksikköhinnat'!I26 -> 0 | I26: ='1-Yksikköhinnat'!J26 -> €/kk | J26: x | K26: 1 | L26: kpl/kk | M26: x | N26: 24 | O26: kk | P26: = | Q26: =H26*K26*N26 -> 0
G27: WAN yhteys nopeudella 100/100Mbits, SLA 8h -tasolla | H27: ='1-Yksikköhinnat'!I27 -> 0 | I27: ='1-Yksikköhinnat'!J27 -> €/kk | J27: x | K27: 1 | L27: kpl/kk | M27: x | N27: 24 | O27: kk | P27: = | Q27: =H27*K27*N27 -> 0
G28: WAN yhteys nopeudella 100/100Mbits, SLA 12h -tasolla | H28: ='1-Yksikköhinnat'!I28 -> 0 | I28: ='1-Yksikköhinnat'!J28 -> €/kk | J28: x | K28: 1 | L28: kpl/kk | M28: x | N28: 24 | O28: kk | P28: = | Q28: =H28*K28*N28 -> 0
G30: WAN yhteys nopeudella 200/200Mbits, SLA 6h -tasolla | H30: ='1-Yksikköhinnat'!I30 -> 0 | I30: ='1-Yksikköhinnat'!J30 -> €/kk | J30: x | K30: 1 | L30: kpl/kk | M30: x | N30: 24 | O30: kk | P30: = | Q30: =H30*K30*N30 -> 0
G31: WAN yhteys nopeudella 200/200Mbits, SLA 8h -tasolla | H31: ='1-Yksikköhinnat'!I31 -> 0 | I31: ='1-Yksikköhinnat'!J31 -> €/kk | J31: x | K31: 1 | L31: kpl/kk | M31: x | N31: 24 | O31: kk | P31: = | Q31: =H31*K31*N31 -> 0
G32: WAN yhteys nopeudella 200/200Mbits, SLA 12h -tasolla | H32: ='1-Yksikköhinnat'!I32 -> 0 | I32: ='1-Yksikköhinnat'!J32 -> €/kk | J32: x | K32: 1 | L32: kpl/kk | M32: x | N32: 24 | O32: kk | P32: = | Q32: =H32*K32*N32 -> 0
G33: Keskiarvo vertailuhintaan | Q33: =SUM(Q26:Q32)/6 -> 0
G34: Rajamäki, Kiljavantie 6
G35: WAN yhteys nopeudella 500/500Mbits, SLA 6h -tasolla | H35: ='1-Yksikköhinnat'!I35 -> 0 | I35: ='1-Yksikköhinnat'!J35 -> €/kk | J35: x | K35: 1 | L35: kpl/kk | M35: x | N35: 24 | O35: kk | P35: = | Q35: =H35*K35*N35 -> 0
G36: WAN yhteys nopeudella 500/500Mbits, SLA 8h -tasolla | H36: ='1-Yksikköhinnat'!I36 -> 0 | I36: ='1-Yksikköhinnat'!J36 -> €/kk | J36: x | K36: 1 | L36: kpl/kk | M36: x | N36: 24 | O36: kk | P36: = | Q36: =H36*K36*N36 -> 0
G37: WAN yhteys nopeudella 500/500Mbits, SLA 12h -tasolla | H37: ='1-Yksikköhinnat'!I37 -> 0 | I37: ='1-Yksikköhinnat'!J37 -> €/kk | J37: x | K37: 1 | L37: kpl/kk | M37: x | N37: 24 | O37: kk | P37: = | Q37: =H37*K37*N37 -> 0
G39: WAN yhteys nopeudella 1/1Gbits, SLA 6h -tasolla | H39: ='1-Yksikköhinnat'!I39 -> 0 | I39: ='1-Yksikköhinnat'!J39 -> €/kk | J39: x | K39: 1 | L39: kpl/kk | M39: x | N39: 24 | O39: kk | P39: = | Q39: =H39*K39*N39 -> 0
G40: WAN yhteys nopeudella 1/1Gbits, SLA 8h -tasolla | H40: ='1-Yksikköhinnat'!I40 -> 0 | I40: ='1-Yksikköhinnat'!J40 -> €/kk | J40: x | K40: 1 | L40: kpl/kk | M40: x | N40: 24 | O40: kk | P40: = | Q40: =H40*K40*N40 -> 0
G41: WAN yhteys nopeudella 1/1Gbits, SLA 12h -tasolla | H41: ='1-Yksikköhinnat'!I41 -> 0 | I41: ='1-Yksikköhinnat'!J41 -> €/kk | J41: x | K41: 1 | L41: kpl/kk | M41: x | N41: 24 | O41: kk | P41: = | Q41: =H41*K41*N41 -> 0
G43: WAN yhteys nopeudella L2 500/500Mbits, SLA 6h-tasolla | H43: ='1-Yksikköhinnat'!I43 -> 0 | I43: ='1-Yksikköhinnat'!J43 -> €/kk | K43: 1 | L43: kpl/kk | N43: 24 | O43: kk | Q43: =H43*K43*N43 -> 0
G44: WAN yhteys nopeudella L2 500/500Mbits, SLA 8h -tasolla | H44: ='1-Yksikköhinnat'!I44 -> 0 | I44: ='1-Yksikköhinnat'!J44 -> €/kk | J44: x | K44: 1 | L44: kpl/kk | M44: x | N44: 24 | O44: kk | P44: = | Q44: =H44*K44*N44 -> 0
G45: WAN yhteys nopeudella L2 500/500Mbits, SLA 12h -tasolla | H45: ='1-Yksikköhinnat'!I45 -> 0 | I45: ='1-Yksikköhinnat'!J45 -> €/kk | J45: x | K45: 1 | L45: kpl/kk | M45: x | N45: 24 | O45: kk | P45: = | Q45: =H45*K45*N45 -> 0
G46: Keskiarvo vertailuhintaan | Q46: =SUM(Q35:Q45)/9 -> 0
G47: Sammatti, Werlanderintie 170
G48: WAN yhteys nopeudella 2/1Mbits, SLA 12h -tasolla | H48: ='1-Yksikköhinnat'!I49 -> 0 | I48: ='1-Yksikköhinnat'!J49 -> €/kk | J48: x | K48: 1 | L48: kpl/kk | M48: x | N48: 24 | O48: kk | P48: = | Q48: =H48*K48*N48 -> 0
G49: WAN yhteys nopeudella 10/5Mbits, SLA 12h -tasolla | H49: ='1-Yksikköhinnat'!I50 -> 0 | I49: ='1-Yksikköhinnat'!J50 -> €/kk | J49: x | K49: 1 | L49: kpl/kk | M49: x | N49: 24 | O49: kk | P49: = | Q49: =H49*K49*N49 -> 0
G50: Keskiarvo vertailuhintaan | Q50: =SUM(Q48:Q49)/2 -> 0
G51: Muut yhteydet
G52: Langaton WAN-yhteys vähintään nopeudella 20Mbit/s, 2h vasteaikahuolto, ark 7-18 | H52: ='1-Yksikköhinnat'!I53 -> 0 | I52: ='1-Yksikköhinnat'!J53 -> €/kk | J52: x | K52: 1 | L52: kpl/kk | M52: x | N52: 24 | O52: kk | P52: = | Q52: =H52*K52*N52 -> 0
G53: Langaton WAN-yhteys vähintään nopeudella 50Mbit/s, 2h vasteaikahuolto, ark 7-18 | H53: ='1-Yksikköhinnat'!I54 -> 0 | I53: ='1-Yksikköhinnat'!J54 -> €/kk | J53: x | K53: 1 | L53: kpl/kk | M53: x | N53: 24 | O53: kk | P53: = | Q53: =H53*K53*N53 -> 0
G54: Langaton WAN-yhteys vähintään nopeudella 100Mbit/s, 2h vasteaikahuolto, ark 7-18 | H54: ='1-Yksikköhinnat'!I55 -> 0 | I54: ='1-Yksikköhinnat'!J55 -> €/kk | K54: 1 | L54: kpl/kk | N54: 24 | O54: kk | Q54: =H54*K54*N54 -> 0
G55: Langaton WAN-yhteys vähintään nopeudella 200Mbit/s, 2h vasteaikahuolto, ark 7-18 | H55: ='1-Yksikköhinnat'!I56 -> 0 | I55: ='1-Yksikköhinnat'!J56 -> €/kk | J55: x | K55: 1 | L55: kpl/kk | M55: x | N55: 24 | O55: kk | P55: = | Q55: =H55*K55*N55 -> 0
G56: Langaton WAN-yhteys vähintään nopeudella 300Mbit/s, 2h vasteaikahuolto, ark 7-18 | H56: ='1-Yksikköhinnat'!I57 -> 0 | I56: ='1-Yksikköhinnat'!J57 -> €/kk | J56: x | K56: 1 | L56: kpl/kk | M56: x | N56: 24 | O56: kk | P56: = | Q56: =H56*K56*N56 -> 0
G57: Keskiarvo vertailuhintaan | Q57: =SUM(Q52:Q56)/5 -> 0
G58: Langaton 4G varayhteys vähintään nopeudella 20Mbit/s, 2h vasteaikahuolto, ark 7-18 | H58: ='1-Yksikköhinnat'!I59 -> 0 | I58: ='1-Yksikköhinnat'!J59 -> €/kk | J58: x | K58: 1 | L58: kpl/kk | M58: x | N58: 24 | O58: kk | P58: = | Q58: =H58*K58*N58 -> 0
G59: Langaton 4G varayhteys vähintään nopeudella 50Mbit/s, 2h vasteaikahuolto, ark 7-18 | H59: ='1-Yksikköhinnat'!I60 -> 0 | I59: ='1-Yksikköhinnat'!J60 -> €/kk | J59: x | K59: 1 | L59: kpl/kk | M59: x | N59: 24 | O59: kk | P59: = | Q59: =H59*K59*N59 -> 0
G60: Langaton 4G varayhteys vähintään nopeudella 100Mbit/s, 2h vasteaikahuolto, ark 7-18 | H60: ='1-Yksikköhinnat'!I61 -> 0 | I60: ='1-Yksikköhinnat'!J61 -> €/kk | J60: x | K60: 1 | L60: kpl/kk | M60: x | N60: 24 | O60: kk | P60: = | Q60: =H60*K60*N60 -> 0
G61: Langaton 4G varayhteys vähintään nopeudella 200Mbit/s, 2h vasteaikahuolto, ark 7-18 | H61: ='1-Yksikköhinnat'!I62 -> 0 | I61: ='1-Yksikköhinnat'!J62 -> €/kk | J61: x | K61: 1 | L61: kpl/kk | M61: x | N61: 24 | O61: kk | P61: = | Q61: =H61*K61*N61 -> 0
G62: Langaton 4G varayhteys vähintään nopeudella 300Mbit/s, 2h vasteaikahuolto, ark 7-18 | H62: ='1-Yksikköhinnat'!I63 -> 0 | I62: ='1-Yksikköhinnat'!J63 -> €/kk | J62: x | K62: 1 | L62: kpl/kk | M62: x | N62: 24 | O62: kk | P62: = | Q62: =H62*K62*N62 -> 0
G63: Keskiarvo vertailuhintaan | Q63: =SUM(Q58:Q62)/5 -> 0
C65: Internet-yhteys ja O365-yhteys (optiot)
G66: Internet-yhteys nopeudella 50/50Mbit/s, SLA 24/7 | H66: ='1-Yksikköhinnat'!I66 -> 0 | I66: ='1-Yksikköhinnat'!J66 -> €/kk | J66: x | K66: 1 | L66: kpl/kk | M66: x | N66: 24 | O66: kk | P66: = | Q66: =H66*K66*N66 -> 0
G67: Internet-yhteys nopeudella 100/100Mbit/s, SLA 24/7 | H67: ='1-Yksikköhinnat'!I67 -> 0 | I67: ='1-Yksikköhinnat'!J67 -> €/kk | J67: x | K67: 1 | L67: kpl/kk | M67: x | N67: 24 | O67: kk | P67: = | Q67: =H67*K67*N67 -> 0
G68: Internet-yhteys nopeudella 500/500Mbit/s, SLA 24/7 | H68: ='1-Yksikköhinnat'!I68 -> 0 | I68: ='1-Yksikköhinnat'!J68 -> €/kk | J68: x | K68: 1 | L68: kpl/kk | M68: x | N68: 24 | O68: kk | P68: = | Q68: =H68*K68*N68 -> 0
G69: Keskiarvo vertailuhintaan | Q69: =SUM(Q66:Q68)/3 -> 0
C71: ='1-Yksikköhinnat'!D70 -> Internet -yhteyden lisäpalvelu (optio)
G72: ='1-Yksikköhinnat'!H71 -> DDoS-torjuntapalvelu | H72: ='1-Yksikköhinnat'!I71 -> 0 | I72: ='1-Yksikköhinnat'!J71 -> €/palvelu/kk | J72: x | K72: 1 | L72: palvelu | M72: x | N72: 24 | O72: kk | P72: = | Q72: =H72*K72*N72 -> 0
C74: Palomuuri palveluna (optio)
G75: Palomuuri palveluna | H75: ='1-Yksikköhinnat'!I74 -> 0 | I75: ='1-Yksikköhinnat'!J74 -> €/kpl | J75: x | K75: 1 | L75: palvelu | M75: x | N75: 24 | O75: kk | P75: = | Q75: =H75*K75*N75 -> 0
G76: Palomuurin sääntömuutos - määrän ylittävä normaalimuutos | H76: ='1-Yksikköhinnat'!I75 -> 0 | I76: ='1-Yksikköhinnat'!J75 -> €/kpl | J76: x | K76: 1 | L76: kpl/kk | M76: x | N76: 24 | O76: kk | P76: = | Q76: =H76*K76*N76 -> 0
G77: Palomuurin sääntömuutos - pikatoimitus | H77: ='1-Yksikköhinnat'!I76 -> 0 | I77: ='1-Yksikköhinnat'!J76 -> €/kpl | J77: x | K77: 1 | L77: kpl/kk | M77: x | N77: 24 | O77: kk | P77: = | Q77: =H77*K77*N77 -> 0
C79: Hiekkalaatikointi (Sandboxing) palveluna (optio)
G80: Hiekkalaatikointi palveluna | H80: ='1-Yksikköhinnat'!I79 -> 0 | I80: ='1-Yksikköhinnat'!J79 -> €/palvelu/kk | J80: x | K80: 1 | L80: palvelu | M80: x | N80: 24 | O80: kk | P80: = | Q80: =H80*K80*N80 -> 0
C82: ='1-Yksikköhinnat'!D81 -> Muutostyöt
G83: ='1-Yksikköhinnat'!H82 -> Pikatoimituksen hinta | H83: ='1-Yksikköhinnat'!I82 -> 0 | I83: ='1-Yksikköhinnat'!J82 -> €/kpl | J83: x | K83: 1 | L83: kpl | M83: x | P83: = | Q83: =H83*K83 -> 0
G84: Liittymän nopeuden nosto | H84: ='1-Yksikköhinnat'!I83 -> 0 | I84: ='1-Yksikköhinnat'!J83 -> €/kpl | J84: x | K84: 1 | L84: palvelu | M84: x | P84: = | Q84: =H84*K84 -> 0
G85: Liittymän siirto toiseen osoitteeseen (ilman rakentamiskustannuksia) | H85: ='1-Yksikköhinnat'!I84 -> 0 | I85: ='1-Yksikköhinnat'!J84 -> €/kpl | J85: x | K85: 1 | L85: kpl | M85: x | P85: = | Q85: =H85*K85 -> 0
C87: ='1-Yksikköhinnat'!D86 -> Palvelujen käyttöönotto
G88: ='1-Yksikköhinnat'!H87 -> Käyttöönotto palveluun kuuluvien kokonaisuuksien osalta (kiinteä kokonaishinta) | H88: ='1-Yksikköhinnat'!I87 -> 0 | I88: ='1-Yksikköhinnat'!J87 -> €/kiinteä kokonaishinta | J88: x | K88: 1 | L88: kpl | M88: x | P88: = | Q88: =H88*K88 -> 0
G89: ='1-Yksikköhinnat'!H88 -> Koulutuspäivä asiakkaan pääkäyttäjille | H89: ='1-Yksikköhinnat'!I88 -> 0 | I89: ='1-Yksikköhinnat'!J88 -> €/koulutuspäivä | J89: x | K89: 1 | L89: koulutuspäivä | M89: x | P89: = | Q89: =H89*K89 -> 0
C91: ='1-Yksikköhinnat'!D90 -> Asiantuntijapalveluiden yksikköhinnat
G92: Tietoliikennesuunnittelija | H92: ='1-Yksikköhinnat'!I91 -> 0 | I92: ='1-Yksikköhinnat'!J91 -> €/tunti | J92: x | K92: 0.5 | L92: tunti/kk | M92: x | N92: 24 | O92: kk | P92: = | Q92: =H92*K92*N92 -> 0
G93: Tietoliikenneasentaja | H93: ='1-Yksikköhinnat'!I92 -> 0 | I93: ='1-Yksikköhinnat'!J92 -> €/tunti | J93: x | K93: 1 | L93: tunti/kk | M93: x | N93: 24 | O93: kk | P93: = | Q93: =H93*K93*N93 -> 0
G95: ='1-Yksikköhinnat'!H94 -> Virka-ajan ulkopuolinen työ (päivähinnan muutos %-yksikköinä)
G96: ='1-Yksikköhinnat'!H95 -> Työ arkisin klo 16-24 | H96: ='1-Yksikköhinnat'!I95 -> 0 | I96: ='1-Yksikköhinnat'!J95 -> korotus % tuntihintaan | J96: x | K96: 1 | L96: tunti/vuosi | M96: x | N96: 2 | O96: vuosi | P96: x
G97: ='1-Yksikköhinnat'!H96 -> Työ lauantaina klo 8-16 | H97: ='1-Yksikköhinnat'!I96 -> 0 | I97: ='1-Yksikköhinnat'!J96 -> korotus % tuntihintaan | J97: x | K97: 1 | L97: tunti/vuosi | M97: x | N97: 2 | O97: vuosi | P97: x
G98: ='1-Yksikköhinnat'!H97 -> Työ sunnuntaina klo 8-16 | H98: ='1-Yksikköhinnat'!I97 -> 0 | I98: ='1-Yksikköhinnat'!J97 -> korotus % tuntihintaan | J98: x | K98: 1 | L98: tunti/vuosi | M98: x | N98: 2 | O98: vuosi | P98: x
P102: Vertailuhinta osa-alue 1: | Q102: =Q15+Q24+Q33+Q46+#REF!+Q50+Q57+Q63+Q69+Q72+Q75+Q76+Q77+Q80+Q83+Q84+Q85+Q88+Q89+Q92+Q93 -> #REF!
