Workbook

Sheet Ohje
C1: Mobiili- ja yritystietoliikenteen palvelujen kilpailutus | I1: 43343

Sheet 1-Yksikköhinnat
H1: Yritystietoliikenneverkon palvelujen hinnat | J1: 43343
H2: Tarjoaja: [Nimi tähän]
D4: Osa-alue 1. Yritystietoliikenneverkon palvelut
D5: Tietoliikenneyhteydet
H6: Yhteydet ja SLA-tasot
H7: Vantaa, Sarkatie 1
H8: WAN yhteys nopeudella 200/200Mbits, SLA 6h -tasolla | J8: €/kk
H9: WAN yhteys nopeudella 200/200Mbits, SLA 8h -tasolla | J9: €/kk
H10: WAN yhteys nopeudella 200/200Mbits, SLA 12h -tasolla | J10: €/kk
H12: WAN yhteys nopeudella 500/500Mbits, SLA 6h -tasolla | J12: €/kk
H13: WAN yhteys nopeudella 500/500Mbits, SLA 8h -tasolla | J13: €/kk
H14: WAN yhteys nopeudella 500/500Mbits, SLA 12h -tasolla | J14: €/kk
H16: Vantaa, Nuolikuja 6
H17: WAN yhteys nopeudella 200/200Mbits, SLA 6h -tasolla | J17: €/kk
H18: WAN yhteys nopeudella 200/200Mbits, SLA 8h -tasolla | J18: €/kk
H19: WAN yhteys nopeudella 200/200Mbits, SLA 12h -tasolla | J19: €/kk
H21: WAN yhteys nopeudella 500/500Mbits, SLA 6h -tasolla | J21: €/kk
H22: WAN yhteys nopeudella 500/500Mbits, SLA 8h -tasolla | J22: €/kk
H23: WAN yhteys nopeudella 500/500Mbits, SLA 12h -tasolla | J23: €/kk
H25: Turku, Rautatehtaankatu 3
H26: WAN yhteys nopeudella 200/200Mbits, SLA 6h -tasolla | J26: €/kk
H27: WAN yhteys nopeudella 200/200Mbits, SLA 8h -tasolla | J27: €/kk
H28: WAN yhteys nopeudella 200/200Mbits, SLA 12h -tasolla | J28: €/kk
H30: WAN yhteys nopeudella 500/500Mbits, SLA 6h -tasolla | J30: €/kk
H31: WAN yhteys nopeudella 500/500Mbits, SLA 8h -tasolla | J31: €/kk
H32: WAN yhteys nopeudella 500/500Mbits, SLA 12h -tasolla | J32: €/kk
H34: Rajamäki, Kiljavantie 6
H35: WAN yhteys nopeudella 500/500Mbits, SLA 6h -tasolla | J35: €/kk
H36: WAN yhteys nopeudella 500/500Mbits, SLA 8h -tasolla | J36: €/kk
H37: WAN yhteys nopeudella 500/500Mbits, SLA 12h -tasolla | J37: €/kk
H39: WAN yhteys nopeudella 1/1Gbits, SLA 6h -tasolla | J39: €/kk
H40: WAN yhteys nopeudella 1/1Gbits, SLA 8h -tasolla | J40: €/kk
H41: WAN yhteys nopeudella 1/1Gbits, SLA 12h -tasolla | J41: €/kk
H43: WAN yhteys nopeudella L2 500/500Mbits, SLA 6h-tasolla | J43: €/kk
H44: WAN yhteys nopeudella L2 500/500Mbits, SLA 8h -tasolla | J44: €/kk
H45: WAN yhteys nopeudella L2 500/500Mbits, SLA 12h -tasolla | J45: €/kk
H48: Sammatti, Werlanderintie 170
H49: WAN yhteys nopeudella 2/1Mbits, SLA 12h -tasolla | J49: €/kk
H50: WAN yhteys nopeudella 10/5Mbits, SLA 12h -tasolla | J50: €/kk
H52: Muut yhteydet
...

Sheet 2- Vertailuhinta
G1: Yritystietoliikenneverkon palvelujen hinnat | O1: 43343
G2: ='1-Yksikköhinnat'!H2 -> Tarjoaja: [Nimi tähän]
C3: Yritystietoliikenneverkon hinnat
C4: ='1-Yksikköhinnat'!D5 -> Tietoliikenneyhteydet | H4: Yksikköhinta | I4: Yksikkö | K4: Vertailukerroin | L4: Yksikkö | N4: Aikakerroin | O4: Yksikkö | Q4: Vertailuhinnassa huomioitava kustannus
G5: ='1-Yksikköhinnat'!H6 -> Yhteydet ja SLA-tasot
G7: Vantaa, Sarkatie 1
G8: WAN yhteys nopeudella 100/100Mbits, SLA 6h -tasolla | H8: ='1-Yksikköhinnat'!I8 -> 0 | I8: ='1-Yksikköhinnat'!J8 -> €/kk | J8: x | K8: 1 | L8: kpl/kk | M8: x | N8: 24 | O8: kk | P8: = | Q8: =H8*K8*N8 -> 0
G9: WAN yhteys nopeudella 100/100Mbits, SLA 8h -tasolla | H9: ='1-Yksikköhinnat'!I9 -> 0 | I9: ='1-Yksikköhinnat'!J9 -> €/kk | J9: x | K9: 1 | L9: kpl/kk | M9: x | N9: 24 | O9: kk | P9: = | Q9: =H9*K9*N9 -> 0
G10: WAN yhteys nopeudella 100/100Mbits, SLA 12h -tasolla | H10: ='1-Yksikköhinnat'!I10 -> 0 | I10: ='1-Yksikköhinnat'!J10 -> €/kk | J10: x | K10: 1 | L10: kpl/kk | M10: x | N10: 24 | O10: kk | P10: = | Q10: =H10*K10*N10 -> 0
G12: WAN yhteys nopeudella 200/200Mbits, SLA 6h -tasolla | H12: ='1-Yksikköhinnat'!I12 -> 0 | I12: ='1-Yksikköhinnat'!J12 -> €/kk | J12: x | K12: 1 | L12: kpl/kk | M12: x | N12: 24 | O12: kk | P12: = | Q12: =H12*K12*N12 -> 0
G13: WAN yhteys nopeudella 200/200Mbits, SLA 8h -tasolla | H13: ='1-Yksikköhinnat'!I13 -> 0 | I13: ='1-Yksikköhinnat'!J13 -> €/kk | J13: x | K13: 1 | L13: kpl/kk | M13: x | N13: 24 | O13: kk | P13: = | Q13: =H13*K13*N13 -> 0
G14: WAN yhteys nopeudella 200/200Mbits, SLA 12h -tasolla | H14: ='1-Yksikköhinnat'!I14 -> 0 | I14: ='1-Yksikköhinnat'!J14 -> €/kk | J14: x | K14: 1 | L14: kpl/kk | M14: x | N14: 24 | O14: kk | P14: = | Q14: =H14*K14*N14 -> 0
G15: Keskiarvo vertailuhintaan | Q15: =SUM(Q8:Q14)/6 -> 0
G16: Vantaa, Nuolikuja 6
G17: WAN yhteys nopeudella 100/100Mbits, SLA 6h -tasolla | H17: ='1-Yksikköhinnat'!I17 -> 0 | I17: ='1-Yksikköhinnat'!J17 -> €/kk | J17: x | K17: 1 | L17: kpl/kk | M17: x | N17: 24 | O17: kk | P17: = | Q17: =H17*K17*N17 -> 0
G18: WAN yhteys nopeudella 100/100Mbits, SLA 8h -tasolla | H18: ='1-Yksikköhinnat'!I18 -> 0 | I18: ='1-Yksikköhinnat'!J18 -> €/kk | J18: x | K18: 1 | L18: kpl/kk | M18: x | N18: 24 | O18: kk | P18: = | Q18: =H18*K18*N18 -> 0
G19: WAN yhteys nopeudella 100/100Mbits, SLA 12h -tasolla | H19: ='1-Yksikköhinnat'!I19 -> 0 | I19: ='1-Yksikköhinnat'!J19 -> €/kk | J19: x | K19: 1 | L19: kpl/kk | M19: x | N19: 24 | O19: kk | P19: = | Q19: =H19*K19*N19 -> 0
G21: WAN yhteys nopeudella 200/200Mbits, SLA 6h -tasolla | H21: ='1-Yksikköhinnat'!I21 -> 0 | I21: ='1-Yksikköhinnat'!J21 -> €/kk | J21: x | K21: 1 | L21: kpl/kk | M21: x | N21: 24 | O21: kk | P21: = | Q21: =H21*K21*N21 -> 0
G22: WAN yhteys nopeudella 200/200Mbits, SLA 8h -tasolla | H22: ='1-Yksikköhinnat'!I22 -> 0 | I22: ='1-Yksikköhinnat'!J22 -> €/kk | J22: x | K22: 1 | L22: kpl/kk | M22: x | N22: 24 | O22: kk | P22: = | Q22: =H22*K22*N22 -> 0
G23: WAN yhteys nopeudella 200/200Mbits, SLA 12h -tasolla | H23: ='1-Yksikköhinnat'!I23 -> 0 | I23: ='1-Yksikköhinnat'!J23 -> €/kk | J23: x | K23: 1 | L23: kpl/kk | M23: x | N23: 24 | O23: kk | P23: = | Q23: =H23*K23*N23 -> 0
G24: Keskiarvo vertailuhintaan | Q24: =SUM(Q17:Q23)/6 -> 0
G25: Turku, Rautatehtaankatu 3
G26: WAN yhteys nopeudella 100/100Mbits, SLA 6h -tasolla | H26: ='1-Yksikköhinnat'!I26 -> 0 | I26: ='1-Yksikköhinnat'!J26 -> €/kk | J26: x | K26: 1 | L26: kpl/kk | M26: x | N26: 24 | O26: kk | P26: = | Q26: =H26*K26*N26 -> 0
G27: WAN yhteys nopeudella 100/100Mbits, SLA 8h -tasolla | H27: ='1-Yksikköhinnat'!I27 -> 0 | I27: ='1-Yksikköhinnat'!J27 -> €/kk | J27: x | K27: 1 | L27: kpl/kk | M27: x | N27: 24 | O27: kk | P27: = | Q27: =H27*K27*N27 -> 0
G28: WAN yhteys nopeudella 100/100Mbits, SLA 12h -tasolla | H28: ='1-Yksikköhinnat'!I28 -> 0 | I28: ='1-Yksikköhinnat'!J28 -> €/kk | J28: x | K28: 1 | L28: kpl/kk | M28: x | N28: 24 | O28: kk | P28: = | Q28: =H28*K28*N28 -> 0
G30: WAN yhteys nopeudella 200/200Mbits, SLA 6h -tasolla | H30: ='1-Yksikköhinnat'!I30 -> 0 | I30: ='1-Yksikköhinnat'!J30 -> €/kk | J30: x | K30: 1 | L30: kpl/kk | M30: x | N30: 24 | O30: kk | P30: = | Q30: =H30*K30*N30 -> 0
G31: WAN yhteys nopeudella 200/200Mbits, SLA 8h -tasolla | H31: ='1-Yksikköhinnat'!I31 -> 0 | I31: ='1-Yksikköhinnat'!J31 -> €/kk | J31: x | K31: 1 | L31: kpl/kk | M31: x | N31: 24 | O31: kk | P31: = | Q31: =H31*K31*N31 -> 0
G32: WAN yhteys nopeudella 200/200Mbits, SLA 12h -tasolla | H32: ='1-Yksikköhinnat'!I32 -> 0 | I32: ='1-Yksikköhinnat'!J32 -> €/kk | J32: x | K32: 1 | L32: kpl/kk | M32: x | N32: 24 | O32: kk | P32: = | Q32: =H32*K32*N32 -> 0
G33: Keskiarvo vertailuhintaan | Q33: =SUM(Q26:Q32)/6 -> 0
G34: Rajamäki, Kiljavantie 6
G35: WAN yhteys nopeudella 500/500Mbits, SLA 6h -tasolla | H35: ='1-Yksikköhinnat'!I35 -> 0 | I35: ='1-Yksikköhinnat'!J35 -> €/kk | J35: x | K35: 1 | L35: kpl/kk | M35: x | N35: 24 | O35: kk | P35: = | Q35: =H35*K35*N35 -> 0
G36: WAN yhteys nopeudella 500/500Mbits, SLA 8h -tasolla | H36: ='1-Yksikköhinnat'!I36 -> 0 | I36: ='1-Yksikköhinnat'!J36 -> €/kk | J36: x | K36: 1 | L36: kpl/kk | M36: x | N36: 24 | O36: kk | P36: = | Q36: =H36*K36*N36 -> 0
G37: WAN yhteys nopeudella 500/500Mbits, SLA 12h -tasolla | H37: ='1-Yksikköhinnat'!I37 -> 0 | I37: ='1-Yksikköhinnat'!J37 -> €/kk | J37: x | K37: 1 | L37: kpl/kk | M37: x | N37: 24 | O37: kk | P37: = | Q37: =H37*K37*N37 -> 0
G39: WAN yhteys nopeudella 1/1Gbits, SLA 6h -tasolla | H39: ='1-Yksikköhinnat'!I39 -> 0 | I39: ='1-Yksikköhinnat'!J39 -> €/kk | J39: x | K39: 1 | L39: kpl/kk | M39: x | N39: 24 | O39: kk | P39: = | Q39: =H39*K39*N39 -> 0
G40: WAN yhteys nopeudella 1/1Gbits, SLA 8h -tasolla | H40: ='1-Yksikköhinnat'!I40 -> 0 | I40: ='1-Yksikköhinnat'!J40 -> €/kk | J40: x | K40: 1 | L40: kpl/kk | M40: x | N40: 24 | O40: kk | P40: = | Q40: =H40*K40*N40 -> 0
G41: WAN yhteys nopeudella 1/1Gbits, SLA 12h -tasolla | H41: ='1-Yksikköhinnat'!I41 -> 0 | I41: ='1-Yksikköhinnat'!J41 -> €/kk | J41: x | K41: 1 | L41: kpl/kk | M41: x | N41: 24 | O41: kk | P41: = | Q41: =H41*K41*N41 -> 0
G43: WAN yhteys nopeudella L2 500/500Mbits, SLA 6h-tasolla | H43: ='1-Yksikköhinnat'!I43 -> 0 | I43: ='1-Yksikköhinnat'!J43 -> €/kk | K43: 1 | L43: kpl/kk | N43: 24 | O43: kk | Q43: =H43*K43*N43 -> 0
G44: WAN yhteys nopeudella L2 500/500Mbits, SLA 8h -tasolla | H44: ='1-Yksikköhinnat'!I44 -> 0 | I44: ='1-Yksikköhinnat'!J44 -> €/kk | J44: x | K44: 1 | L44: kpl/kk | M44: x | N44: 24 | O44: kk | P44: = | Q44: =H44*K44*N44 -> 0
G45: WAN yhteys nopeudella L2 500/500Mbits, SLA 12h -tasolla | H45: ='1-Yksikköhinnat'!I45 -> 0 | I45: ='1-Yksikköhinnat'!J45 -> €/kk | J45: x | K45: 1 | L45: kpl/kk | M45: x | N45: 24 | O45: kk | P45: = | Q45: =H45*K45*N45 -> 0
G46: Keskiarvo vertailuhintaan | Q46: =SUM(Q35:Q45)/9 -> 0
...
