Workbook

Sheet Ark1
B1: TARJOUSLOMAKE | F1: sivu 1/2
A3: PERHON KUNNAN PIHOJEN JA TEIDEN TALVIPUHTAANAPITO 2025-2026 (2026-2028)
A5: Tarjoaja / Yritys:
A8: Tarjouspyyntöönne viitaten tarjoudumme suorittamaan talvipuhtaanapitoa ja/tai liukkauden torjuntaa
A9: tarjouspyyntöasikirjojen mukaisesti seuraavilla yksikköhinnoilla.
B11: Kone/Auto, merkki ja malli | C11: määrä | D11: yks | E11: €/yks (alv 0 %) | F11: vertailuhinta
A12: =+'Alueet ja kohteet'!A1 -> ALUE 1 / KESKUSTA (Perhojoen pohjoispuoli tiet ja klv:t)
A13: Kaavatiet | C13: =+'Alueet ja kohteet'!C25 -> 7.445 | D13: km | F13: =+C13*E13 -> 0
A14: Pyörätiet | C14: =+'Alueet ja kohteet'!C38 -> 2.3 | D14: km | F14: =+C14*E14 -> 0
A15: Lumen lähisiirto | C15: 1 | D15: h | F15: =+C15*E15 -> 0
E16: Vertailuhinta yhteensä | F16: =SUM(F13:F15) -> 0
A18: =+'Alueet ja kohteet'!A40 -> ALUE 2 / KESKUSTA (Pihat)
A19: Piha-alueet | C19: =COUNTA('Alueet ja kohteet'!B42:B59) -> 18 | D19: kpl | F19: =+C19*E19 -> 0
A20: Lumen lähisiirto | C20: 1 | D20: h | F20: =+C20*E20 -> 0
E21: Vertailuhinta yhteensä | F21: =SUM(F19:F20) -> 0
A23: =+'Alueet ja kohteet'!A62 -> ALUE 3 / HIEKANMÄKI - SAHINKOSKI - OKSAKOSKI
A24: Kaavatiet | C24: =+'Alueet ja kohteet'!C87 -> 5.697 | D24: km | F24: =+C24*E24 -> 0
A25: Pyörätiet | C25: =+'Alueet ja kohteet'!C98 -> 2.01 | D25: km | F25: =+C25*E25 -> 0
A26: Piha-alueet | C26: =COUNTA('Alueet ja kohteet'!B101:B102) -> 2 | D26: kpl | F26: =+C26*E26 -> 0
A27: Lumen lähisiirto | C27: 1 | D27: h | F27: =+C27*E27 -> 0
E28: Vertailuhinta yhteensä | F28: =SUM(F24:F27) -> 0
A30: =+'Alueet ja kohteet'!A104 -> ALUE 4 TAIPALE - MÖTTÖNEN - KETTUKANGAS - SALMELANHARJU - KORKIAKANGAS
A31: Yksityistiet | C31: =+'Alueet ja kohteet'!C117 -> 3.54 | D31: km | F31: =+C31*E31 -> 0
A32: Piha- ja yleiset alueet | C32: =COUNTA('Alueet ja kohteet'!B120:B120) -> 1 | D32: kpl | F32: =+C32*E32 -> 0
A33: Lumen lähisiirto | C33: 1 | D33: h | F33: =+C33*E33 -> 0
E34: Vertailuhinta yhteensä | F34: =SUM(F31:F33) -> 0
A37: =+'Alueet ja kohteet'!A122 -> ALUE 5 -KONEELLISEN LIUKKAUDENTORJUNNAN TARJOUSPYYNTÖÖN SISÄLTYVÄT TIET
A38: Kaavatiet | C38: =+'Alueet ja kohteet'!C165 -> 11.802 | D38: km | F38: =+C38*E38 -> 0
A39: Kunnan muut tiet | C39: =+'Alueet ja kohteet'!C177 -> 3.04 | D39: km | F39: =+C39*E39 -> 0
A40: Yksityistiet | C40: =+'Alueet ja kohteet'!C185 -> 5.35 | D40: km | F40: =+C40*E40 -> 0
E41: Vertailuhinta yhteensä | F41: =SUM(F38:F40) -> 0
A43: =+'Alueet ja kohteet'!A186 -> Alue 6 - KONEELLISEN LIUKKAUDENTORJUNNAN TARJOUSPYYNTÖÖN SISÄLTYVÄT PIHAT JA KEVYENLIIKENTEEN VÄYLÄT
A44: Pyörätiet | C44: =+'Alueet ja kohteet'!C205 -> 4.21 | D44: km | F44: =+C44*E44 -> 0
A45: Pihat | C45: =COUNTA('Alueet ja kohteet'!B208:B228) -> 21 | D45: kpl | F45: =+C45*E45 -> 0
E46: Vertailuhinta yhteensä | F46: =SUM(F44:F45) -> 0
B47: =IF($B$5="","",$B$5) | F47: Sivu 2/2
A48: Tarjouksesta antaa lisätietoja
A49: Nimi
A50: Puhelin
A51: sähköpostiosoite
A52: postiosoite
A53: postitoimipaikka
A55: Vakuutamme, että yrityksemme täyttää tarjouspyynnössä vaaditut tilaajavastuulain mukaiset seikat ja mikäli
A56: tulemme valituksi urakoitsijaksi toimitamme vaaditut otteet ennen sopimuksen allekirjoitusta.
A58: Paikka ja aika
A60: Allekirjoitukset:
A62: nimen selvennys
A65: Tarjoajaa pyydetään täyttämään seuraavat alla olevat tiedot hankintapäätösmenettelyä varten:
A66: Yrityksen nimi | C66: =IF($B$5="","",$B$5)
A67: Y-tunnus
A68: Postiosoite
A69: Postinumero- ja toimipaikka
A70: Yhteyshenkilö
A71: Yhteyshenkilön puhelinnumero
A73: Sähköpostiosoite hankintapäätöksen toimittamista varten, mikäli eri kuin edellä mainittu
A74: yhteyshenkilön sähköpostiosoite (hankintapäätös)
A76: Hankintapäätös lähetetään hankintalain (1397/2016) 127 §:n mukaisesti tarjoajalle tiedoksi käyttäen tarjoajan ilmoittamaa sähköpostiosoitetta. Käytettäessä sähköistä yhteystietoa katsotaan tarjoajan saaneen hankintapäätöksestä oheisasiakirjoineen tiedon sinä päivänä, jolloin mainitut asiakirjat sisältävä sähköinen viesti on vastaanottajan käytettävissä tämän vastaanottolaitteessa siten, että viestiä voidaan käsitellä. Tällaisena ajankohtana pidetään viestin lähettämispäivää.

Sheet Alueet ja kohteet
A1: ALUE 1 / KESKUSTA (Perhojoen pohjoispuoli tiet ja klv:t)
A2: Aurattavat kaavatiet / kunnantiet | C2: Pituus / km | D2: Kartta
A3: 1. | B3: Koulukuja | C3: 0.15 | D3: Keskusta 1
A4: 2. | B4: Keskustie | C4: 0.37 | D4: Keskusta 1
A5: 3. | B5: Kinniäntie | C5: 0.48 | D5: Keskusta 1
A6: 4. | B6: Antintie | C6: 0.35 | D6: Keskusta 1
A7: 5. | B7: Haanentie | C7: 0.89 | D7: Keskusta 1
A8: 6. | B8: Vesalankuja | C8: 0.25 | D8: Keskusta 1
A9: 7. | B9: Samulintie | C9: 0.14 | D9: Keskusta 1
A10: 8. | B10: Lukkarinkuja | C10: 0.07 | D10: Keskusta 1
A11: 9. | B11: Honkakuja | C11: 0.1 | D11: Keskusta 1
A12: 10. | B12: Koulutie | C12: 0.2 | D12: Keskusta 1
A13: 11. | B13: Paavonkallionkuja | C13: 0.22 | D13: Keskusta 1
A14: 12. | B14: Rintiläntie | C14: 0.22 | D14: Keskusta 2
... A24: 22. | B24: Lehdontie | C24: 0.2 | D24: Keskusta 1
B25: yht. | C25: =SUM(C3:C24) -> 7.445
A27: Aurattavat pyörätiet | C27: Pituus / km | D27: Kartta
A28: 23. | B28: Pyörätie Koulutie- Haanentie | C28: 0.15 | D28: Keskusta 1
A29: 24. | B29: Pyörätie Haanentie- Kinniäntie | C29: 0.18 | D29: Keskusta 1
A30: 25. | B30: Pyörätie Kinniäntie | C30: 0.37 | D30: Keskusta 1
A31: 26. | B31: Pyörätie Honkakujan jatke | C31: 0.07 | D31: Keskusta 1
A32: 27. | B32: Pyörätie Keskustie- Antintie | C32: 0.17 | D32: Keskusta 1
A33: 28. | B33: Pyörätie Keskustie | C33: 0.34 | D33: Keskusta 1
A34: 29. | B34: Hietaniementien pyörätie | C34: 0.41 | D34: Keskusta 1
A35: 30. | B35: Pyörätie Vanhainkodintie-Perhonjoki | C35: 0.05 | D35: Keskusta 1
A36: 31. | B36: Vehmassuontien pyörätie | C36: 0.46 | D36: Keskusta 1
A37: 32. | B37: Pyörätie ST1 liikenneympyrän viereinen puisto-siltaan asti | C37: 0.1 | D37: Keskusta 1
B38: yht. | C38: =SUM(C28:C37) -> 2.3
A40: ALUE 2 / KESKUSTA (Pihat)
A41: Aurattavat piha-alueet
A42: 33. | B42: Kunnanvirasto | D42: Keskusta pihat
A43: 34. | B43: Keskuskoulu (Arsi Areena, lukio, alakoulu) | D43: Keskusta pihat
A44: 35. | B44: Kirjasto (myös parkkipaikka Kipakkaa vastapäätä) | D44: Keskusta pihat
A45: 36. | B45: Paavonkallion hiihtoladun parkkipaikka | D45: Keskusta pihat
A46: 37. | B46: Aamurusko | D46: Keskusta pihat
A47: 38. | B47: Haanentien Palveluasunnot | D47: Keskusta pihat
A48: 39. | B48: Paloasema | D48: Keskusta pihat
A49: 40. | B49: Lämpölaitos | D49: Keskusta pihat
A50: 41. | B50: Naskali (toimintakeskus ja kuntosali) | D50: Keskusta pihat
A51: 42. | B51: Neulomohalli | D51: Keskusta pihat
A52: 43. | B52: Terveyskeskus | D52: Keskusta pihat
A53: 44. | B53: Hyötyjäteasema | D53: Keskusta pihat
... A59: 50. | B59: Maaseutuopisto + alueelle menevät tiet | D59: Keskusta pihat
A62: ALUE 3 / HIEKANMÄKI - SAHINKOSKI - OKSAKOSKI
A63: Aurattavat kaavatiet / kunnantiet | C63: Pituus / km | D63: Kartta
A64: 51. | B64: Jaakontie | C64: 0.5 | D64: Hiekanmäki
A65: 52. | B65: Vehtarinkuja | C65: 0.11 | D65: Hiekanmäki
A66: 53. | B66: Virtalantie | C66: 0.16 | D66: Hiekanmäki
A67: 54. | B67: Hiekanmäentie | C67: 0.3 | D67: Hiekanmäki
A68: 55. | B68: Aatunkuja | C68: 0.1 | D68: Hiekanmäki
A69: 56. | B69: Tuomaankuja | C69: 0.15 | D69: Hiekanmäki
A70: 57. | B70: Eeronkuja | C70: 0.1 | D70: Hiekanmäki
A71: 58. | B71: Jaakonkuja | C71: 0.1 | D71: Hiekanmäki
A72: 59. | B72: Ukonkuja | C72: 0.1 | D72: Hiekanmäki
A73: 60. | B73: Kustaantie | C73: 0.2 | D73: Hiekanmäki
A74: 61. | B74: Riihikankaantie | C74: 0.15 | D74: Hiekanmäki
A75: 62. | B75: Einontie | C75: 0.08 | D75: Hiekanmäki
... A84: 71. | B84: Pappilantie | C84: 1.194 | D84: Sahinkoski
A85: 72. | B85: Sahintie | C85: =1.862-1.569 -> 0.293 | D85: Sahinkoski
A86: 73. | B86: Koulukankaantie | C86: 0.2 | D86: Oksakoski
B87: yht. | C87: =SUM(C64:C86) -> 5.697
A89: Aurattavat kevyenliikenteen väylät
A90: 74. | B90: Pyörätie Riihikankaantie | C90: 0.08 | D90: Hiekanmäki
A91: 75. | B91: Pyörätie Pappilanniemi (rantabulevardi) | C91: 0.76 | D91: Hiekanmäki
A92: 76. | B92: Pyörätie Eeronkuja- Perhonjoki | C92: 0.2 | D92: Hiekanmäki
A93: 77. | B93: Pyörätie Hiekanmäentie-Perhonjoki | C93: 0.26 | D93: Hiekanmäki
A94: 78. | B94: Pyörätie Ukonkuja- Kustaantie | C94: 0.1 | D94: Hiekanmäki
A95: 79. | B95: Pyörätie Hiekanmäen leikkikenttä/Aatunkuja | C95: 0.14 | D95: Hiekanmäki
A96: 80. | B96: Pyörätie Sahintie | C96: 0.2 | D96: Hiekanmäki
A97: 81. | B97: Pyörätie Sahinkoski | C97: 0.27 | D97: Sahinkoski
B98: yht. | C98: =SUM(C90:C97) -> 2.01
A100: Aurattavat piha-alueet
A101: 82. | B101: Jäteveden puhdistamo | D101: Hiekanmäki
A102: 83. | B102: Oksakosken koulu liikuntasalin parkkipaikka | D102: Oksakoski
A104: ALUE 4 TAIPALE - MÖTTÖNEN - KETTUKANGAS - SALMELANHARJU - KORKIAKANGAS
A105: Aurattavat kunnantiet | C105: Pituus / km | D105: kartta
A107: 84. | B107: Lepikontie | C107: 0.36 | D107: Möttönen
A108: 85. | B108: Törmäntie | C108: 0.21 | D108: Möttönen
A109: 86. | B109: Kujatie | C109: 0.37 | D109: Taipale
A110: 87. | B110: Myllykankaantie | C110: 0.5 | D110: Kettukangas
A111: 88. | B111: Välitie | C111: 0.26 | D111: Kettukangas
A112: 89. | B112: Pikku-Berliinintie | C112: 0.12 | D112: Kettukangas
A113: 90. | B113: Korkiakankaan paineenkorotusasema | C113: 0.1 | D113: Korkiakangas
A114: 91. | B114: Kontusentie (pumppaamolle asti) | C114: 1.3 | D114: Salmelanharju
A115: 92. | B115: Salmelanharjun vanha vedenottamo | C115: 0.06 | D115: Salmelanharju
A116: 93. | B116: Salmelanharjun uusi vedenottamo | C116: 0.26 | D116: Salmelanharju
C117: =SUM(C107:C116) -> 3.54
A119: Aurattavat piha-alueet ja yleiset alueet
A120: 95. | B120: Möttösen koulu | D120: Möttönen
A122: ALUE 5 -KONEELLISEN LIUKKAUDENTORJUNNAN TARJOUSPYYNTÖÖN SISÄLTYVÄT TIET
A123: nro | B123: Kaavatiet | C123: km | D123: Kartta
A124: =+A3 -> 1. | B124: =+B3 -> Koulukuja | C124: =+C3 -> 0.15 | D124: =+D3 -> Keskusta 1
A125: =+A4 -> 2. | B125: =+B4 -> Keskustie | C125: =+C4 -> 0.37 | D125: =+D4 -> Keskusta 1
A126: =+A5 -> 3. | B126: =+B5 -> Kinniäntie | C126: =+C5 -> 0.48 | D126: =+D5 -> Keskusta 1
A127: =+A6 -> 4. | B127: =+B6 -> Antintie | C127: =+C6 -> 0.35 | D127: =+D6 -> Keskusta 1
A128: =+A7 -> 5. | B128: =+B7 -> Haanentie | C128: =+C7 -> 0.89 | D128: =+D7 -> Keskusta 1
A129: =+A8 -> 6. | B129: =+B8 -> Vesalankuja | C129: =+C8 -> 0.25 | D129: =+D8 -> Keskusta 1
A130: =+A9 -> 7. | B130: =+B9 -> Samulintie | C130: =+C9 -> 0.14 | D130: =+D9 -> Keskusta 1
A131: =+A10 -> 8. | B131: =+B10 -> Lukkarinkuja | C131: =+C10 -> 0.07 | D131: =+D10 -> Keskusta 1
A132: =+A11 -> 9. | B132: =+B11 -> Honkakuja | C132: =+C11 -> 0.1 | D132: =+D11 -> Keskusta 1
...
