Workbook

Sheet Ark1
B1: TARJOUSLOMAKE | F1: sivu 1/2
A3: PERHON KUNNAN PIHOJEN JA TEIDEN TALVIPUHTAANAPITO 2025-2026 (2026-2028)
A5: Tarjoaja / Yritys:
A8: Tarjouspyyntöönne viitaten tarjoudumme suorittamaan talvipuhtaanapitoa ja/tai liukkauden torjuntaa
A9: tarjouspyyntöasikirjojen mukaisesti seuraavilla yksikköhinnoilla.
B11: Kone/Auto, merkki ja malli | C11: määrä | D11: yks | E11: €/yks (alv 0 %) | F11: vertailuhinta
A12: =+'Alueet ja kohteet'!A1 -> ALUE 1 / KESKUSTA (Perhojoen pohjoispuoli tiet ja klv:t)
A13: Kaavatiet | C13: =+'Alueet ja kohteet'!C25 -> 7.445 | D13: km | F13: =+C13*E13 -> 0
A14: Pyörätiet | C14: =+'Alueet ja kohteet'!C38 -> 2.3 | D14: km | F14: =+C14*E14 -> 0
A15: Lumen lähisiirto | C15: 1 | D15: h | F15: =+C15*E15 -> 0
E16: Vertailuhinta yhteensä | F16: =SUM(F13:F15) -> 0
A18: =+'Alueet ja kohteet'!A40 -> ALUE 2 / KESKUSTA (Pihat)
A19: Piha-alueet | C19: =COUNTA('Alueet ja kohteet'!B42:B59) -> 18 | D19: kpl | F19: =+C19*E19 -> 0
A20: Lumen lähisiirto | C20: 1 | D20: h | F20: =+C20*E20 -> 0
E21: Vertailuhinta yhteensä | F21: =SUM(F19:F20) -> 0
A23: =+'Alueet ja kohteet'!A62 -> ALUE 3 / HIEKANMÄKI - SAHINKOSKI - OKSAKOSKI
A24: Kaavatiet | C24: =+'Alueet ja kohteet'!C87 -> 5.697 | D24: km | F24: =+C24*E24 -> 0
A25: Pyörätiet | C25: =+'Alueet ja kohteet'!C98 -> 2.01 | D25: km | F25: =+C25*E25 -> 0
A26: Piha-alueet | C26: =COUNTA('Alueet ja kohteet'!B101:B102) -> 2 | D26: kpl | F26: =+C26*E26 -> 0
A27: Lumen lähisiirto | C27: 1 | D27: h | F27: =+C27*E27 -> 0
E28: Vertailuhinta yhteensä | F28: =SUM(F24:F27) -> 0
A30: =+'Alueet ja kohteet'!A104 -> ALUE 4 TAIPALE - MÖTTÖNEN - KETTUKANGAS - SALMELANHARJU - KORKIAKANGAS
A31: Yksityistiet | C31: =+'Alueet ja kohteet'!C117 -> 3.54 | D31: km | F31: =+C31*E31 -> 0
A32: Piha- ja yleiset alueet | C32: =COUNTA('Alueet ja kohteet'!B120:B120) -> 1 | D32: kpl | F32: =+C32*E32 -> 0
A33: Lumen lähisiirto | C33: 1 | D33: h | F33: =+C33*E33 -> 0
E34: Vertailuhinta yhteensä | F34: =SUM(F31:F33) -> 0
A37: =+'Alueet ja kohteet'!A122 -> ALUE 5 -KONEELLISEN LIUKKAUDENTORJUNNAN TARJOUSPYYNTÖÖN SISÄLTYVÄT TIET
A38: Kaavatiet | C38: =+'Alueet ja kohteet'!C165 -> 11.802 | D38: km | F38: =+C38*E38 -> 0
A39: Kunnan muut tiet | C39: =+'Alueet ja kohteet'!C177 -> 3.04 | D39: km | F39: =+C39*E39 -> 0
A40: Yksityistiet | C40: =+'Alueet ja kohteet'!C185 -> 5.35 | D40: km | F40: =+C40*E40 -> 0
E41: Vertailuhinta yhteensä | F41: =SUM(F38:F40) -> 0
A43: =+'Alueet ja kohteet'!A186 -> Alue 6 - KONEELLISEN LIUKKAUDENTORJUNNAN TARJOUSPYYNTÖÖN SISÄLTYVÄT PIHAT JA KEVYENLIIKENTEEN VÄYLÄT
A44: Pyörätiet | C44: =+'Alueet ja kohteet'!C205 -> 4.21 | D44: km | F44: =+C44*E44 -> 0
A45: Pihat | C45: =COUNTA('Alueet ja kohteet'!B208:B228) -> 21 | D45: kpl | F45: =+C45*E45 -> 0
E46: Vertailuhinta yhteensä | F46: =SUM(F44:F45) -> 0
B47: =IF($B$5="","",$B$5) | F47: Sivu 2/2
A48: Tarjouksesta antaa lisätietoja
A49: Nimi
A50: Puhelin
A51: sähköpostiosoite
...

Sheet Alueet ja kohteet
A1: ALUE 1 / KESKUSTA (Perhojoen pohjoispuoli tiet ja klv:t)
A2: Aurattavat kaavatiet / kunnantiet | C2: Pituus / km | D2: Kartta
A3: 1. | B3: Koulukuja | C3: 0.15 | D3: Keskusta 1
A4: 2. | B4: Keskustie | C4: 0.37 | D4: Keskusta 1
A5: 3. | B5: Kinniäntie | C5: 0.48 | D5: Keskusta 1
A6: 4. | B6: Antintie | C6: 0.35 | D6: Keskusta 1
A7: 5. | B7: Haanentie | C7: 0.89 | D7: Keskusta 1
A8: 6. | B8: Vesalankuja | C8: 0.25 | D8: Keskusta 1
A9: 7. | B9: Samulintie | C9: 0.14 | D9: Keskusta 1
A10: 8. | B10: Lukkarinkuja | C10: 0.07 | D10: Keskusta 1
A11: 9. | B11: Honkakuja | C11: 0.1 | D11: Keskusta 1
A12: 10. | B12: Koulutie | C12: 0.2 | D12: Keskusta 1
A13: 11. | B13: Paavonkallionkuja | C13: 0.22 | D13: Keskusta 1
A14: 12. | B14: Rintiläntie | C14: 0.22 | D14: Keskusta 2
... A24: 22. | B24: Lehdontie | C24: 0.2 | D24: Keskusta 1
B25: yht. | C25: =SUM(C3:C24) -> 7.445
A27: Aurattavat pyörätiet | C27: Pituus / km | D27: Kartta
A28: 23. | B28: Pyörätie Koulutie- Haanentie | C28: 0.15 | D28: Keskusta 1
A29: 24. | B29: Pyörätie Haanentie- Kinniäntie | C29: 0.18 | D29: Keskusta 1
A30: 25. | B30: Pyörätie Kinniäntie | C30: 0.37 | D30: Keskusta 1
A31: 26. | B31: Pyörätie Honkakujan jatke | C31: 0.07 | D31: Keskusta 1
A32: 27. | B32: Pyörätie Keskustie- Antintie | C32: 0.17 | D32: Keskusta 1
A33: 28. | B33: Pyörätie Keskustie | C33: 0.34 | D33: Keskusta 1
A34: 29. | B34: Hietaniementien pyörätie | C34: 0.41 | D34: Keskusta 1
A35: 30. | B35: Pyörätie Vanhainkodintie-Perhonjoki | C35: 0.05 | D35: Keskusta 1
A36: 31. | B36: Vehmassuontien pyörätie | C36: 0.46 | D36: Keskusta 1
A37: 32. | B37: Pyörätie ST1 liikenneympyrän viereinen puisto-siltaan asti | C37: 0.1 | D37: Keskusta 1
B38: yht. | C38: =SUM(C28:C37) -> 2.3
A40: ALUE 2 / KESKUSTA (Pihat)
A41: Aurattavat piha-alueet
A42: 33. | B42: Kunnanvirasto | D42: Keskusta pihat
A43: 34. | B43: Keskuskoulu (Arsi Areena, lukio, alakoulu) | D43: Keskusta pihat
A44: 35. | B44: Kirjasto (myös parkkipaikka Kipakkaa vastapäätä) | D44: Keskusta pihat
A45: 36. | B45: Paavonkallion hiihtoladun parkkipaikka | D45: Keskusta pihat
A46: 37. | B46: Aamurusko | D46: Keskusta pihat
A47: 38. | B47: Haanentien Palveluasunnot | D47: Keskusta pihat
A48: 39. | B48: Paloasema | D48: Keskusta pihat
A49: 40. | B49: Lämpölaitos | D49: Keskusta pihat
A50: 41. | B50: Naskali (toimintakeskus ja kuntosali) | D50: Keskusta pihat
A51: 42. | B51: Neulomohalli | D51: Keskusta pihat
...
